BEGIN:VCALENDAR
VERSION:2.0
PRODID:-//Tigard Downtown Alliance - ECPv6.15.18//NONSGML v1.0//EN
CALSCALE:GREGORIAN
METHOD:PUBLISH
X-ORIGINAL-URL:https://www.exploredowntowntigard.com
X-WR-CALDESC:Events for Tigard Downtown Alliance
REFRESH-INTERVAL;VALUE=DURATION:PT1H
X-Robots-Tag:noindex
X-PUBLISHED-TTL:PT1H
BEGIN:VTIMEZONE
TZID:UTC
BEGIN:STANDARD
TZOFFSETFROM:+0000
TZOFFSETTO:+0000
TZNAME:UTC
DTSTART:20240101T000000
END:STANDARD
END:VTIMEZONE
BEGIN:VEVENT
DTSTART;TZID=UTC:20260404T083000
DTEND;TZID=UTC:20260404T120000
DTSTAMP:20260423T205446
CREATED:20260401T183718Z
LAST-MODIFIED:20260401T183718Z
UID:10001071-1775291400-1775304000@www.exploredowntowntigard.com
SUMMARY:Bunny Brunch & Egg Hunt
DESCRIPTION:Hop into Easter with us! \nCelebrate the season with Bunny Brunch at select stores\, featuring a delicious menu\, a visit from the Easter Bunny\, crafts\, and professional photos\, brought to you by Shutterfly. Photos sessions and up to two digital downloads are $40—and complimentary for Nordstrom cardmembers!* \nBrunch tickets must be purchased in advance; seating is based on the reservation time selected at checkout. Please arrive within 15 minutes of your reservation time. We will do our best to seat multiple reservations with or near one another. \nBunny Brunch tickets: $40 for adults\, $22 for kids 3-15\, and Free for kids 2 and under (NYC Only: $50 for adults\, $25 for kids 3-15\, and Free for kids 2 and under) \nPlus\, join us for a kids’ Egg Hunt in every store. Enjoy a Bunny photo op and kids’ activities. One lucky winner will get a $125 Nordstrom gift card in celebration of our 125 years. \nThe Egg Hunt is for children 1–12 years of age\, while supply lasts. Hunt begins when the coordinator says “Go.” Golden egg to be redeemed at register once found; one golden-egg winner per location.
URL:https://www.exploredowntowntigard.com/event/bunny-brunch-egg-hunt/
LOCATION:Downtown Tigard\, 12345 SW Main St\, Tigard\, OR\, 97223\, United States
ATTACH;FMTTYPE=image/jpeg:https://www.exploredowntowntigard.com/wp-content/uploads/2026/03/1-12358872_EasterBrunch_Main.jpg
END:VEVENT
BEGIN:VEVENT
DTSTART;TZID=UTC:20251205T190000
DTEND;TZID=UTC:20251205T210000
DTSTAMP:20260423T205446
CREATED:20251118T182725Z
LAST-MODIFIED:20251118T215144Z
UID:10000798-1764961200-1764968400@www.exploredowntowntigard.com
SUMMARY:Baby Goat Reindeer After Downtown Tigard Tree Lighting
DESCRIPTION:After the Holiday Tree Lighting in Downtown Tigard at Universal Plaza\, come stop by Beach Hut Deli! We’ll have Reindeer Baby Goats for you to pet and take pictures with. Don’t miss out on the holiday fun! See you there.
URL:https://www.exploredowntowntigard.com/event/baby-goat-reindeer-after-downtown-tigard-tree-lighting/
LOCATION:Beach Hut Deli\, 12436 SW Main Street\, Tigard\, 97223\, United States
ATTACH;FMTTYPE=image/jpeg:https://www.exploredowntowntigard.com/wp-content/uploads/2025/11/582334263_1506218001511427_1640966205836918940_n.jpg
END:VEVENT
END:VCALENDAR