BEGIN:VCALENDAR
VERSION:2.0
PRODID:-//Tigard Downtown Alliance - ECPv6.15.18//NONSGML v1.0//EN
CALSCALE:GREGORIAN
METHOD:PUBLISH
X-ORIGINAL-URL:https://www.exploredowntowntigard.com
X-WR-CALDESC:Events for Tigard Downtown Alliance
REFRESH-INTERVAL;VALUE=DURATION:PT1H
X-Robots-Tag:noindex
X-PUBLISHED-TTL:PT1H
BEGIN:VTIMEZONE
TZID:UTC
BEGIN:STANDARD
TZOFFSETFROM:+0000
TZOFFSETTO:+0000
TZNAME:UTC
DTSTART:20260101T000000
END:STANDARD
END:VTIMEZONE
BEGIN:VEVENT
DTSTART;TZID=UTC:20270131T123000
DTEND;TZID=UTC:20270131T170000
DTSTAMP:20260425T104954
CREATED:20251110T222222Z
LAST-MODIFIED:20251110T225412Z
UID:10000600-1801398600-1801414800@www.exploredowntowntigard.com
SUMMARY:Free Poker Sunset at Beach Hut
DESCRIPTION:Play FREE Texas Hold’em with Oregon’s largest poker league. Never a buy in\, just fun!\n\nYour new best friends can’t wait to meet you.\n\nPoker presented by MAD Poker\nVisit our website at www.madpoker.info
URL:https://www.exploredowntowntigard.com/event/free-poker-sunset-at-beach-hut/2027-01-31/
ATTACH;FMTTYPE=image/jpeg:https://www.exploredowntowntigard.com/wp-content/uploads/2025/11/Poker-Image.jpg
END:VEVENT
BEGIN:VEVENT
DTSTART;TZID=UTC:20270207T123000
DTEND;TZID=UTC:20270207T170000
DTSTAMP:20260425T104954
CREATED:20251110T222222Z
LAST-MODIFIED:20251110T225412Z
UID:10000601-1802003400-1802019600@www.exploredowntowntigard.com
SUMMARY:Free Poker Sunset at Beach Hut
DESCRIPTION:Play FREE Texas Hold’em with Oregon’s largest poker league. Never a buy in\, just fun!\n\nYour new best friends can’t wait to meet you.\n\nPoker presented by MAD Poker\nVisit our website at www.madpoker.info
URL:https://www.exploredowntowntigard.com/event/free-poker-sunset-at-beach-hut/2027-02-07/
ATTACH;FMTTYPE=image/jpeg:https://www.exploredowntowntigard.com/wp-content/uploads/2025/11/Poker-Image.jpg
END:VEVENT
BEGIN:VEVENT
DTSTART;TZID=UTC:20270214T123000
DTEND;TZID=UTC:20270214T170000
DTSTAMP:20260425T104954
CREATED:20251110T222222Z
LAST-MODIFIED:20251110T225412Z
UID:10000602-1802608200-1802624400@www.exploredowntowntigard.com
SUMMARY:Free Poker Sunset at Beach Hut
DESCRIPTION:Play FREE Texas Hold’em with Oregon’s largest poker league. Never a buy in\, just fun!\n\nYour new best friends can’t wait to meet you.\n\nPoker presented by MAD Poker\nVisit our website at www.madpoker.info
URL:https://www.exploredowntowntigard.com/event/free-poker-sunset-at-beach-hut/2027-02-14/
ATTACH;FMTTYPE=image/jpeg:https://www.exploredowntowntigard.com/wp-content/uploads/2025/11/Poker-Image.jpg
END:VEVENT
BEGIN:VEVENT
DTSTART;TZID=UTC:20270221T123000
DTEND;TZID=UTC:20270221T170000
DTSTAMP:20260425T104954
CREATED:20251110T222222Z
LAST-MODIFIED:20251110T225412Z
UID:10000603-1803213000-1803229200@www.exploredowntowntigard.com
SUMMARY:Free Poker Sunset at Beach Hut
DESCRIPTION:Play FREE Texas Hold’em with Oregon’s largest poker league. Never a buy in\, just fun!\n\nYour new best friends can’t wait to meet you.\n\nPoker presented by MAD Poker\nVisit our website at www.madpoker.info
URL:https://www.exploredowntowntigard.com/event/free-poker-sunset-at-beach-hut/2027-02-21/
ATTACH;FMTTYPE=image/jpeg:https://www.exploredowntowntigard.com/wp-content/uploads/2025/11/Poker-Image.jpg
END:VEVENT
BEGIN:VEVENT
DTSTART;TZID=UTC:20270228T123000
DTEND;TZID=UTC:20270228T170000
DTSTAMP:20260425T104954
CREATED:20251110T222222Z
LAST-MODIFIED:20251110T225412Z
UID:10000604-1803817800-1803834000@www.exploredowntowntigard.com
SUMMARY:Free Poker Sunset at Beach Hut
DESCRIPTION:Play FREE Texas Hold’em with Oregon’s largest poker league. Never a buy in\, just fun!\n\nYour new best friends can’t wait to meet you.\n\nPoker presented by MAD Poker\nVisit our website at www.madpoker.info
URL:https://www.exploredowntowntigard.com/event/free-poker-sunset-at-beach-hut/2027-02-28/
ATTACH;FMTTYPE=image/jpeg:https://www.exploredowntowntigard.com/wp-content/uploads/2025/11/Poker-Image.jpg
END:VEVENT
BEGIN:VEVENT
DTSTART;TZID=UTC:20270307T123000
DTEND;TZID=UTC:20270307T170000
DTSTAMP:20260425T104954
CREATED:20251110T222222Z
LAST-MODIFIED:20251110T225412Z
UID:10000605-1804422600-1804438800@www.exploredowntowntigard.com
SUMMARY:Free Poker Sunset at Beach Hut
DESCRIPTION:Play FREE Texas Hold’em with Oregon’s largest poker league. Never a buy in\, just fun!\n\nYour new best friends can’t wait to meet you.\n\nPoker presented by MAD Poker\nVisit our website at www.madpoker.info
URL:https://www.exploredowntowntigard.com/event/free-poker-sunset-at-beach-hut/2027-03-07/
ATTACH;FMTTYPE=image/jpeg:https://www.exploredowntowntigard.com/wp-content/uploads/2025/11/Poker-Image.jpg
END:VEVENT
BEGIN:VEVENT
DTSTART;TZID=UTC:20270314T123000
DTEND;TZID=UTC:20270314T170000
DTSTAMP:20260425T104954
CREATED:20251110T222222Z
LAST-MODIFIED:20251110T225412Z
UID:10000606-1805027400-1805043600@www.exploredowntowntigard.com
SUMMARY:Free Poker Sunset at Beach Hut
DESCRIPTION:Play FREE Texas Hold’em with Oregon’s largest poker league. Never a buy in\, just fun!\n\nYour new best friends can’t wait to meet you.\n\nPoker presented by MAD Poker\nVisit our website at www.madpoker.info
URL:https://www.exploredowntowntigard.com/event/free-poker-sunset-at-beach-hut/2027-03-14/
ATTACH;FMTTYPE=image/jpeg:https://www.exploredowntowntigard.com/wp-content/uploads/2025/11/Poker-Image.jpg
END:VEVENT
BEGIN:VEVENT
DTSTART;TZID=UTC:20270321T123000
DTEND;TZID=UTC:20270321T170000
DTSTAMP:20260425T104954
CREATED:20251110T222222Z
LAST-MODIFIED:20251110T225412Z
UID:10000607-1805632200-1805648400@www.exploredowntowntigard.com
SUMMARY:Free Poker Sunset at Beach Hut
DESCRIPTION:Play FREE Texas Hold’em with Oregon’s largest poker league. Never a buy in\, just fun!\n\nYour new best friends can’t wait to meet you.\n\nPoker presented by MAD Poker\nVisit our website at www.madpoker.info
URL:https://www.exploredowntowntigard.com/event/free-poker-sunset-at-beach-hut/2027-03-21/
ATTACH;FMTTYPE=image/jpeg:https://www.exploredowntowntigard.com/wp-content/uploads/2025/11/Poker-Image.jpg
END:VEVENT
BEGIN:VEVENT
DTSTART;TZID=UTC:20270328T123000
DTEND;TZID=UTC:20270328T170000
DTSTAMP:20260425T104954
CREATED:20251110T222222Z
LAST-MODIFIED:20251110T225412Z
UID:10000608-1806237000-1806253200@www.exploredowntowntigard.com
SUMMARY:Free Poker Sunset at Beach Hut
DESCRIPTION:Play FREE Texas Hold’em with Oregon’s largest poker league. Never a buy in\, just fun!\n\nYour new best friends can’t wait to meet you.\n\nPoker presented by MAD Poker\nVisit our website at www.madpoker.info
URL:https://www.exploredowntowntigard.com/event/free-poker-sunset-at-beach-hut/2027-03-28/
ATTACH;FMTTYPE=image/jpeg:https://www.exploredowntowntigard.com/wp-content/uploads/2025/11/Poker-Image.jpg
END:VEVENT
BEGIN:VEVENT
DTSTART;TZID=UTC:20270404T123000
DTEND;TZID=UTC:20270404T170000
DTSTAMP:20260425T104954
CREATED:20251110T222222Z
LAST-MODIFIED:20251110T225412Z
UID:10000609-1806841800-1806858000@www.exploredowntowntigard.com
SUMMARY:Free Poker Sunset at Beach Hut
DESCRIPTION:Play FREE Texas Hold’em with Oregon’s largest poker league. Never a buy in\, just fun!\n\nYour new best friends can’t wait to meet you.\n\nPoker presented by MAD Poker\nVisit our website at www.madpoker.info
URL:https://www.exploredowntowntigard.com/event/free-poker-sunset-at-beach-hut/2027-04-04/
ATTACH;FMTTYPE=image/jpeg:https://www.exploredowntowntigard.com/wp-content/uploads/2025/11/Poker-Image.jpg
END:VEVENT
BEGIN:VEVENT
DTSTART;TZID=UTC:20270411T123000
DTEND;TZID=UTC:20270411T170000
DTSTAMP:20260425T104954
CREATED:20251110T222222Z
LAST-MODIFIED:20251110T225412Z
UID:10000610-1807446600-1807462800@www.exploredowntowntigard.com
SUMMARY:Free Poker Sunset at Beach Hut
DESCRIPTION:Play FREE Texas Hold’em with Oregon’s largest poker league. Never a buy in\, just fun!\n\nYour new best friends can’t wait to meet you.\n\nPoker presented by MAD Poker\nVisit our website at www.madpoker.info
URL:https://www.exploredowntowntigard.com/event/free-poker-sunset-at-beach-hut/2027-04-11/
ATTACH;FMTTYPE=image/jpeg:https://www.exploredowntowntigard.com/wp-content/uploads/2025/11/Poker-Image.jpg
END:VEVENT
BEGIN:VEVENT
DTSTART;TZID=UTC:20270418T123000
DTEND;TZID=UTC:20270418T170000
DTSTAMP:20260425T104954
CREATED:20251110T222222Z
LAST-MODIFIED:20251110T225412Z
UID:10000611-1808051400-1808067600@www.exploredowntowntigard.com
SUMMARY:Free Poker Sunset at Beach Hut
DESCRIPTION:Play FREE Texas Hold’em with Oregon’s largest poker league. Never a buy in\, just fun!\n\nYour new best friends can’t wait to meet you.\n\nPoker presented by MAD Poker\nVisit our website at www.madpoker.info
URL:https://www.exploredowntowntigard.com/event/free-poker-sunset-at-beach-hut/2027-04-18/
ATTACH;FMTTYPE=image/jpeg:https://www.exploredowntowntigard.com/wp-content/uploads/2025/11/Poker-Image.jpg
END:VEVENT
BEGIN:VEVENT
DTSTART;TZID=UTC:20270425T123000
DTEND;TZID=UTC:20270425T170000
DTSTAMP:20260425T104954
CREATED:20251110T222222Z
LAST-MODIFIED:20251110T225412Z
UID:10000612-1808656200-1808672400@www.exploredowntowntigard.com
SUMMARY:Free Poker Sunset at Beach Hut
DESCRIPTION:Play FREE Texas Hold’em with Oregon’s largest poker league. Never a buy in\, just fun!\n\nYour new best friends can’t wait to meet you.\n\nPoker presented by MAD Poker\nVisit our website at www.madpoker.info
URL:https://www.exploredowntowntigard.com/event/free-poker-sunset-at-beach-hut/2027-04-25/
ATTACH;FMTTYPE=image/jpeg:https://www.exploredowntowntigard.com/wp-content/uploads/2025/11/Poker-Image.jpg
END:VEVENT
BEGIN:VEVENT
DTSTART;TZID=UTC:20270502T123000
DTEND;TZID=UTC:20270502T170000
DTSTAMP:20260425T104954
CREATED:20251110T222222Z
LAST-MODIFIED:20251110T225412Z
UID:10000613-1809261000-1809277200@www.exploredowntowntigard.com
SUMMARY:Free Poker Sunset at Beach Hut
DESCRIPTION:Play FREE Texas Hold’em with Oregon’s largest poker league. Never a buy in\, just fun!\n\nYour new best friends can’t wait to meet you.\n\nPoker presented by MAD Poker\nVisit our website at www.madpoker.info
URL:https://www.exploredowntowntigard.com/event/free-poker-sunset-at-beach-hut/2027-05-02/
ATTACH;FMTTYPE=image/jpeg:https://www.exploredowntowntigard.com/wp-content/uploads/2025/11/Poker-Image.jpg
END:VEVENT
BEGIN:VEVENT
DTSTART;TZID=UTC:20270509T123000
DTEND;TZID=UTC:20270509T170000
DTSTAMP:20260425T104954
CREATED:20251110T222222Z
LAST-MODIFIED:20251110T225412Z
UID:10000614-1809865800-1809882000@www.exploredowntowntigard.com
SUMMARY:Free Poker Sunset at Beach Hut
DESCRIPTION:Play FREE Texas Hold’em with Oregon’s largest poker league. Never a buy in\, just fun!\n\nYour new best friends can’t wait to meet you.\n\nPoker presented by MAD Poker\nVisit our website at www.madpoker.info
URL:https://www.exploredowntowntigard.com/event/free-poker-sunset-at-beach-hut/2027-05-09/
ATTACH;FMTTYPE=image/jpeg:https://www.exploredowntowntigard.com/wp-content/uploads/2025/11/Poker-Image.jpg
END:VEVENT
BEGIN:VEVENT
DTSTART;TZID=UTC:20270516T123000
DTEND;TZID=UTC:20270516T170000
DTSTAMP:20260425T104954
CREATED:20251110T222222Z
LAST-MODIFIED:20251110T225412Z
UID:10000615-1810470600-1810486800@www.exploredowntowntigard.com
SUMMARY:Free Poker Sunset at Beach Hut
DESCRIPTION:Play FREE Texas Hold’em with Oregon’s largest poker league. Never a buy in\, just fun!\n\nYour new best friends can’t wait to meet you.\n\nPoker presented by MAD Poker\nVisit our website at www.madpoker.info
URL:https://www.exploredowntowntigard.com/event/free-poker-sunset-at-beach-hut/2027-05-16/
ATTACH;FMTTYPE=image/jpeg:https://www.exploredowntowntigard.com/wp-content/uploads/2025/11/Poker-Image.jpg
END:VEVENT
BEGIN:VEVENT
DTSTART;TZID=UTC:20270523T123000
DTEND;TZID=UTC:20270523T170000
DTSTAMP:20260425T104954
CREATED:20251110T222222Z
LAST-MODIFIED:20251110T225412Z
UID:10000616-1811075400-1811091600@www.exploredowntowntigard.com
SUMMARY:Free Poker Sunset at Beach Hut
DESCRIPTION:Play FREE Texas Hold’em with Oregon’s largest poker league. Never a buy in\, just fun!\n\nYour new best friends can’t wait to meet you.\n\nPoker presented by MAD Poker\nVisit our website at www.madpoker.info
URL:https://www.exploredowntowntigard.com/event/free-poker-sunset-at-beach-hut/2027-05-23/
ATTACH;FMTTYPE=image/jpeg:https://www.exploredowntowntigard.com/wp-content/uploads/2025/11/Poker-Image.jpg
END:VEVENT
BEGIN:VEVENT
DTSTART;TZID=UTC:20270530T123000
DTEND;TZID=UTC:20270530T170000
DTSTAMP:20260425T104954
CREATED:20251110T222222Z
LAST-MODIFIED:20251110T225412Z
UID:10000617-1811680200-1811696400@www.exploredowntowntigard.com
SUMMARY:Free Poker Sunset at Beach Hut
DESCRIPTION:Play FREE Texas Hold’em with Oregon’s largest poker league. Never a buy in\, just fun!\n\nYour new best friends can’t wait to meet you.\n\nPoker presented by MAD Poker\nVisit our website at www.madpoker.info
URL:https://www.exploredowntowntigard.com/event/free-poker-sunset-at-beach-hut/2027-05-30/
ATTACH;FMTTYPE=image/jpeg:https://www.exploredowntowntigard.com/wp-content/uploads/2025/11/Poker-Image.jpg
END:VEVENT
BEGIN:VEVENT
DTSTART;TZID=UTC:20270606T123000
DTEND;TZID=UTC:20270606T170000
DTSTAMP:20260425T104954
CREATED:20251110T222222Z
LAST-MODIFIED:20251110T225412Z
UID:10000618-1812285000-1812301200@www.exploredowntowntigard.com
SUMMARY:Free Poker Sunset at Beach Hut
DESCRIPTION:Play FREE Texas Hold’em with Oregon’s largest poker league. Never a buy in\, just fun!\n\nYour new best friends can’t wait to meet you.\n\nPoker presented by MAD Poker\nVisit our website at www.madpoker.info
URL:https://www.exploredowntowntigard.com/event/free-poker-sunset-at-beach-hut/2027-06-06/
ATTACH;FMTTYPE=image/jpeg:https://www.exploredowntowntigard.com/wp-content/uploads/2025/11/Poker-Image.jpg
END:VEVENT
BEGIN:VEVENT
DTSTART;TZID=UTC:20270613T123000
DTEND;TZID=UTC:20270613T170000
DTSTAMP:20260425T104954
CREATED:20251110T222222Z
LAST-MODIFIED:20251110T225412Z
UID:10000619-1812889800-1812906000@www.exploredowntowntigard.com
SUMMARY:Free Poker Sunset at Beach Hut
DESCRIPTION:Play FREE Texas Hold’em with Oregon’s largest poker league. Never a buy in\, just fun!\n\nYour new best friends can’t wait to meet you.\n\nPoker presented by MAD Poker\nVisit our website at www.madpoker.info
URL:https://www.exploredowntowntigard.com/event/free-poker-sunset-at-beach-hut/2027-06-13/
ATTACH;FMTTYPE=image/jpeg:https://www.exploredowntowntigard.com/wp-content/uploads/2025/11/Poker-Image.jpg
END:VEVENT
BEGIN:VEVENT
DTSTART;TZID=UTC:20270620T123000
DTEND;TZID=UTC:20270620T170000
DTSTAMP:20260425T104954
CREATED:20251110T222222Z
LAST-MODIFIED:20251110T225412Z
UID:10000620-1813494600-1813510800@www.exploredowntowntigard.com
SUMMARY:Free Poker Sunset at Beach Hut
DESCRIPTION:Play FREE Texas Hold’em with Oregon’s largest poker league. Never a buy in\, just fun!\n\nYour new best friends can’t wait to meet you.\n\nPoker presented by MAD Poker\nVisit our website at www.madpoker.info
URL:https://www.exploredowntowntigard.com/event/free-poker-sunset-at-beach-hut/2027-06-20/
ATTACH;FMTTYPE=image/jpeg:https://www.exploredowntowntigard.com/wp-content/uploads/2025/11/Poker-Image.jpg
END:VEVENT
BEGIN:VEVENT
DTSTART;TZID=UTC:20270627T123000
DTEND;TZID=UTC:20270627T170000
DTSTAMP:20260425T104954
CREATED:20251110T222222Z
LAST-MODIFIED:20251110T225412Z
UID:10000621-1814099400-1814115600@www.exploredowntowntigard.com
SUMMARY:Free Poker Sunset at Beach Hut
DESCRIPTION:Play FREE Texas Hold’em with Oregon’s largest poker league. Never a buy in\, just fun!\n\nYour new best friends can’t wait to meet you.\n\nPoker presented by MAD Poker\nVisit our website at www.madpoker.info
URL:https://www.exploredowntowntigard.com/event/free-poker-sunset-at-beach-hut/2027-06-27/
ATTACH;FMTTYPE=image/jpeg:https://www.exploredowntowntigard.com/wp-content/uploads/2025/11/Poker-Image.jpg
END:VEVENT
BEGIN:VEVENT
DTSTART;TZID=UTC:20270704T123000
DTEND;TZID=UTC:20270704T170000
DTSTAMP:20260425T104954
CREATED:20251110T222222Z
LAST-MODIFIED:20251110T225412Z
UID:10000622-1814704200-1814720400@www.exploredowntowntigard.com
SUMMARY:Free Poker Sunset at Beach Hut
DESCRIPTION:Play FREE Texas Hold’em with Oregon’s largest poker league. Never a buy in\, just fun!\n\nYour new best friends can’t wait to meet you.\n\nPoker presented by MAD Poker\nVisit our website at www.madpoker.info
URL:https://www.exploredowntowntigard.com/event/free-poker-sunset-at-beach-hut/2027-07-04/
ATTACH;FMTTYPE=image/jpeg:https://www.exploredowntowntigard.com/wp-content/uploads/2025/11/Poker-Image.jpg
END:VEVENT
BEGIN:VEVENT
DTSTART;TZID=UTC:20270711T123000
DTEND;TZID=UTC:20270711T170000
DTSTAMP:20260425T104954
CREATED:20251110T222222Z
LAST-MODIFIED:20251110T225412Z
UID:10000623-1815309000-1815325200@www.exploredowntowntigard.com
SUMMARY:Free Poker Sunset at Beach Hut
DESCRIPTION:Play FREE Texas Hold’em with Oregon’s largest poker league. Never a buy in\, just fun!\n\nYour new best friends can’t wait to meet you.\n\nPoker presented by MAD Poker\nVisit our website at www.madpoker.info
URL:https://www.exploredowntowntigard.com/event/free-poker-sunset-at-beach-hut/2027-07-11/
ATTACH;FMTTYPE=image/jpeg:https://www.exploredowntowntigard.com/wp-content/uploads/2025/11/Poker-Image.jpg
END:VEVENT
BEGIN:VEVENT
DTSTART;TZID=UTC:20270718T123000
DTEND;TZID=UTC:20270718T170000
DTSTAMP:20260425T104954
CREATED:20251110T222222Z
LAST-MODIFIED:20251110T225412Z
UID:10000624-1815913800-1815930000@www.exploredowntowntigard.com
SUMMARY:Free Poker Sunset at Beach Hut
DESCRIPTION:Play FREE Texas Hold’em with Oregon’s largest poker league. Never a buy in\, just fun!\n\nYour new best friends can’t wait to meet you.\n\nPoker presented by MAD Poker\nVisit our website at www.madpoker.info
URL:https://www.exploredowntowntigard.com/event/free-poker-sunset-at-beach-hut/2027-07-18/
ATTACH;FMTTYPE=image/jpeg:https://www.exploredowntowntigard.com/wp-content/uploads/2025/11/Poker-Image.jpg
END:VEVENT
BEGIN:VEVENT
DTSTART;TZID=UTC:20270725T123000
DTEND;TZID=UTC:20270725T170000
DTSTAMP:20260425T104954
CREATED:20251110T222222Z
LAST-MODIFIED:20251110T225412Z
UID:10000625-1816518600-1816534800@www.exploredowntowntigard.com
SUMMARY:Free Poker Sunset at Beach Hut
DESCRIPTION:Play FREE Texas Hold’em with Oregon’s largest poker league. Never a buy in\, just fun!\n\nYour new best friends can’t wait to meet you.\n\nPoker presented by MAD Poker\nVisit our website at www.madpoker.info
URL:https://www.exploredowntowntigard.com/event/free-poker-sunset-at-beach-hut/2027-07-25/
ATTACH;FMTTYPE=image/jpeg:https://www.exploredowntowntigard.com/wp-content/uploads/2025/11/Poker-Image.jpg
END:VEVENT
BEGIN:VEVENT
DTSTART;TZID=UTC:20270801T123000
DTEND;TZID=UTC:20270801T170000
DTSTAMP:20260425T104954
CREATED:20251110T222222Z
LAST-MODIFIED:20251110T225412Z
UID:10000626-1817123400-1817139600@www.exploredowntowntigard.com
SUMMARY:Free Poker Sunset at Beach Hut
DESCRIPTION:Play FREE Texas Hold’em with Oregon’s largest poker league. Never a buy in\, just fun!\n\nYour new best friends can’t wait to meet you.\n\nPoker presented by MAD Poker\nVisit our website at www.madpoker.info
URL:https://www.exploredowntowntigard.com/event/free-poker-sunset-at-beach-hut/2027-08-01/
ATTACH;FMTTYPE=image/jpeg:https://www.exploredowntowntigard.com/wp-content/uploads/2025/11/Poker-Image.jpg
END:VEVENT
BEGIN:VEVENT
DTSTART;TZID=UTC:20270808T123000
DTEND;TZID=UTC:20270808T170000
DTSTAMP:20260425T104954
CREATED:20251110T222222Z
LAST-MODIFIED:20251110T225412Z
UID:10000627-1817728200-1817744400@www.exploredowntowntigard.com
SUMMARY:Free Poker Sunset at Beach Hut
DESCRIPTION:Play FREE Texas Hold’em with Oregon’s largest poker league. Never a buy in\, just fun!\n\nYour new best friends can’t wait to meet you.\n\nPoker presented by MAD Poker\nVisit our website at www.madpoker.info
URL:https://www.exploredowntowntigard.com/event/free-poker-sunset-at-beach-hut/2027-08-08/
ATTACH;FMTTYPE=image/jpeg:https://www.exploredowntowntigard.com/wp-content/uploads/2025/11/Poker-Image.jpg
END:VEVENT
BEGIN:VEVENT
DTSTART;TZID=UTC:20270815T123000
DTEND;TZID=UTC:20270815T170000
DTSTAMP:20260425T104954
CREATED:20251110T222222Z
LAST-MODIFIED:20251110T225412Z
UID:10000628-1818333000-1818349200@www.exploredowntowntigard.com
SUMMARY:Free Poker Sunset at Beach Hut
DESCRIPTION:Play FREE Texas Hold’em with Oregon’s largest poker league. Never a buy in\, just fun!\n\nYour new best friends can’t wait to meet you.\n\nPoker presented by MAD Poker\nVisit our website at www.madpoker.info
URL:https://www.exploredowntowntigard.com/event/free-poker-sunset-at-beach-hut/2027-08-15/
ATTACH;FMTTYPE=image/jpeg:https://www.exploredowntowntigard.com/wp-content/uploads/2025/11/Poker-Image.jpg
END:VEVENT
BEGIN:VEVENT
DTSTART;TZID=UTC:20270822T123000
DTEND;TZID=UTC:20270822T170000
DTSTAMP:20260425T104954
CREATED:20251110T222222Z
LAST-MODIFIED:20251110T225412Z
UID:10000629-1818937800-1818954000@www.exploredowntowntigard.com
SUMMARY:Free Poker Sunset at Beach Hut
DESCRIPTION:Play FREE Texas Hold’em with Oregon’s largest poker league. Never a buy in\, just fun!\n\nYour new best friends can’t wait to meet you.\n\nPoker presented by MAD Poker\nVisit our website at www.madpoker.info
URL:https://www.exploredowntowntigard.com/event/free-poker-sunset-at-beach-hut/2027-08-22/
ATTACH;FMTTYPE=image/jpeg:https://www.exploredowntowntigard.com/wp-content/uploads/2025/11/Poker-Image.jpg
END:VEVENT
END:VCALENDAR