BEGIN:VCALENDAR
VERSION:2.0
PRODID:-//Tigard Downtown Alliance - ECPv6.15.18//NONSGML v1.0//EN
CALSCALE:GREGORIAN
METHOD:PUBLISH
X-ORIGINAL-URL:https://www.exploredowntowntigard.com
X-WR-CALDESC:Events for Tigard Downtown Alliance
REFRESH-INTERVAL;VALUE=DURATION:PT1H
X-Robots-Tag:noindex
X-PUBLISHED-TTL:PT1H
BEGIN:VTIMEZONE
TZID:UTC
BEGIN:STANDARD
TZOFFSETFROM:+0000
TZOFFSETTO:+0000
TZNAME:UTC
DTSTART:20290101T000000
END:STANDARD
END:VTIMEZONE
BEGIN:VEVENT
DTSTART;TZID=UTC:20300715T183000
DTEND;TZID=UTC:20300715T203000
DTSTAMP:20260424T052823
CREATED:20251110T143412Z
LAST-MODIFIED:20251110T225244Z
UID:10000521-1910370600-1910377800@www.exploredowntowntigard.com
SUMMARY:Trivia Sunset at Beach Hut
DESCRIPTION:Trivia Mondays at Sunset at Beach Hut 🌅🍹\nMondays | 6:30–8:30 PM \nMake Mondays something to look forward to! Join us at Sunset at Beach Hut for two hours of laughs\, drinks\, and friendly competition as you put your trivia skills to the test. From pop culture and music to movies and random fun facts\, every round is a new chance to show off what you know (or pretend you do 😉). \nCome early\, grab a drink\, and settle in for the perfect mix of brainpower and beach vibes. It’s totally free to play\, and there are prizes up for grabs each week — plus bragging rights that last until next Monday. \nArrive early to snag $2 off of your drink of choice\, valid 5:30-6:30pm on event nights! \nBring your friends\, bring your coworkers\, or just come hang with the regulars. Either way\, you’ll have a blast under the Sunset lights. \nTag your trivia crew and get ready for your new favorite Monday night tradition! 🌴🧠 \n 
URL:https://www.exploredowntowntigard.com/event/trivia-sunset-at-beach-hut/2030-07-15/
LOCATION:Sunset at Beach Hut\, 12436 SW Main St\, Tigard\, OR\, 97223\, United States
ATTACH;FMTTYPE=image/jpeg:https://www.exploredowntowntigard.com/wp-content/uploads/2025/11/IMG_3089.jpeg
END:VEVENT
BEGIN:VEVENT
DTSTART;TZID=UTC:20300722T183000
DTEND;TZID=UTC:20300722T203000
DTSTAMP:20260424T052823
CREATED:20251110T143412Z
LAST-MODIFIED:20251110T225244Z
UID:10000522-1910975400-1910982600@www.exploredowntowntigard.com
SUMMARY:Trivia Sunset at Beach Hut
DESCRIPTION:Trivia Mondays at Sunset at Beach Hut 🌅🍹\nMondays | 6:30–8:30 PM \nMake Mondays something to look forward to! Join us at Sunset at Beach Hut for two hours of laughs\, drinks\, and friendly competition as you put your trivia skills to the test. From pop culture and music to movies and random fun facts\, every round is a new chance to show off what you know (or pretend you do 😉). \nCome early\, grab a drink\, and settle in for the perfect mix of brainpower and beach vibes. It’s totally free to play\, and there are prizes up for grabs each week — plus bragging rights that last until next Monday. \nArrive early to snag $2 off of your drink of choice\, valid 5:30-6:30pm on event nights! \nBring your friends\, bring your coworkers\, or just come hang with the regulars. Either way\, you’ll have a blast under the Sunset lights. \nTag your trivia crew and get ready for your new favorite Monday night tradition! 🌴🧠 \n 
URL:https://www.exploredowntowntigard.com/event/trivia-sunset-at-beach-hut/2030-07-22/
LOCATION:Sunset at Beach Hut\, 12436 SW Main St\, Tigard\, OR\, 97223\, United States
ATTACH;FMTTYPE=image/jpeg:https://www.exploredowntowntigard.com/wp-content/uploads/2025/11/IMG_3089.jpeg
END:VEVENT
BEGIN:VEVENT
DTSTART;TZID=UTC:20300729T183000
DTEND;TZID=UTC:20300729T203000
DTSTAMP:20260424T052823
CREATED:20251110T143412Z
LAST-MODIFIED:20251110T225244Z
UID:10000523-1911580200-1911587400@www.exploredowntowntigard.com
SUMMARY:Trivia Sunset at Beach Hut
DESCRIPTION:Trivia Mondays at Sunset at Beach Hut 🌅🍹\nMondays | 6:30–8:30 PM \nMake Mondays something to look forward to! Join us at Sunset at Beach Hut for two hours of laughs\, drinks\, and friendly competition as you put your trivia skills to the test. From pop culture and music to movies and random fun facts\, every round is a new chance to show off what you know (or pretend you do 😉). \nCome early\, grab a drink\, and settle in for the perfect mix of brainpower and beach vibes. It’s totally free to play\, and there are prizes up for grabs each week — plus bragging rights that last until next Monday. \nArrive early to snag $2 off of your drink of choice\, valid 5:30-6:30pm on event nights! \nBring your friends\, bring your coworkers\, or just come hang with the regulars. Either way\, you’ll have a blast under the Sunset lights. \nTag your trivia crew and get ready for your new favorite Monday night tradition! 🌴🧠 \n 
URL:https://www.exploredowntowntigard.com/event/trivia-sunset-at-beach-hut/2030-07-29/
LOCATION:Sunset at Beach Hut\, 12436 SW Main St\, Tigard\, OR\, 97223\, United States
ATTACH;FMTTYPE=image/jpeg:https://www.exploredowntowntigard.com/wp-content/uploads/2025/11/IMG_3089.jpeg
END:VEVENT
BEGIN:VEVENT
DTSTART;TZID=UTC:20300805T183000
DTEND;TZID=UTC:20300805T203000
DTSTAMP:20260424T052823
CREATED:20251110T143412Z
LAST-MODIFIED:20251110T225244Z
UID:10000524-1912185000-1912192200@www.exploredowntowntigard.com
SUMMARY:Trivia Sunset at Beach Hut
DESCRIPTION:Trivia Mondays at Sunset at Beach Hut 🌅🍹\nMondays | 6:30–8:30 PM \nMake Mondays something to look forward to! Join us at Sunset at Beach Hut for two hours of laughs\, drinks\, and friendly competition as you put your trivia skills to the test. From pop culture and music to movies and random fun facts\, every round is a new chance to show off what you know (or pretend you do 😉). \nCome early\, grab a drink\, and settle in for the perfect mix of brainpower and beach vibes. It’s totally free to play\, and there are prizes up for grabs each week — plus bragging rights that last until next Monday. \nArrive early to snag $2 off of your drink of choice\, valid 5:30-6:30pm on event nights! \nBring your friends\, bring your coworkers\, or just come hang with the regulars. Either way\, you’ll have a blast under the Sunset lights. \nTag your trivia crew and get ready for your new favorite Monday night tradition! 🌴🧠 \n 
URL:https://www.exploredowntowntigard.com/event/trivia-sunset-at-beach-hut/2030-08-05/
LOCATION:Sunset at Beach Hut\, 12436 SW Main St\, Tigard\, OR\, 97223\, United States
ATTACH;FMTTYPE=image/jpeg:https://www.exploredowntowntigard.com/wp-content/uploads/2025/11/IMG_3089.jpeg
END:VEVENT
BEGIN:VEVENT
DTSTART;TZID=UTC:20300812T183000
DTEND;TZID=UTC:20300812T203000
DTSTAMP:20260424T052823
CREATED:20251110T143412Z
LAST-MODIFIED:20251110T225244Z
UID:10000525-1912789800-1912797000@www.exploredowntowntigard.com
SUMMARY:Trivia Sunset at Beach Hut
DESCRIPTION:Trivia Mondays at Sunset at Beach Hut 🌅🍹\nMondays | 6:30–8:30 PM \nMake Mondays something to look forward to! Join us at Sunset at Beach Hut for two hours of laughs\, drinks\, and friendly competition as you put your trivia skills to the test. From pop culture and music to movies and random fun facts\, every round is a new chance to show off what you know (or pretend you do 😉). \nCome early\, grab a drink\, and settle in for the perfect mix of brainpower and beach vibes. It’s totally free to play\, and there are prizes up for grabs each week — plus bragging rights that last until next Monday. \nArrive early to snag $2 off of your drink of choice\, valid 5:30-6:30pm on event nights! \nBring your friends\, bring your coworkers\, or just come hang with the regulars. Either way\, you’ll have a blast under the Sunset lights. \nTag your trivia crew and get ready for your new favorite Monday night tradition! 🌴🧠 \n 
URL:https://www.exploredowntowntigard.com/event/trivia-sunset-at-beach-hut/2030-08-12/
LOCATION:Sunset at Beach Hut\, 12436 SW Main St\, Tigard\, OR\, 97223\, United States
ATTACH;FMTTYPE=image/jpeg:https://www.exploredowntowntigard.com/wp-content/uploads/2025/11/IMG_3089.jpeg
END:VEVENT
BEGIN:VEVENT
DTSTART;TZID=UTC:20300819T183000
DTEND;TZID=UTC:20300819T203000
DTSTAMP:20260424T052823
CREATED:20251110T143412Z
LAST-MODIFIED:20251110T225244Z
UID:10000526-1913394600-1913401800@www.exploredowntowntigard.com
SUMMARY:Trivia Sunset at Beach Hut
DESCRIPTION:Trivia Mondays at Sunset at Beach Hut 🌅🍹\nMondays | 6:30–8:30 PM \nMake Mondays something to look forward to! Join us at Sunset at Beach Hut for two hours of laughs\, drinks\, and friendly competition as you put your trivia skills to the test. From pop culture and music to movies and random fun facts\, every round is a new chance to show off what you know (or pretend you do 😉). \nCome early\, grab a drink\, and settle in for the perfect mix of brainpower and beach vibes. It’s totally free to play\, and there are prizes up for grabs each week — plus bragging rights that last until next Monday. \nArrive early to snag $2 off of your drink of choice\, valid 5:30-6:30pm on event nights! \nBring your friends\, bring your coworkers\, or just come hang with the regulars. Either way\, you’ll have a blast under the Sunset lights. \nTag your trivia crew and get ready for your new favorite Monday night tradition! 🌴🧠 \n 
URL:https://www.exploredowntowntigard.com/event/trivia-sunset-at-beach-hut/2030-08-19/
LOCATION:Sunset at Beach Hut\, 12436 SW Main St\, Tigard\, OR\, 97223\, United States
ATTACH;FMTTYPE=image/jpeg:https://www.exploredowntowntigard.com/wp-content/uploads/2025/11/IMG_3089.jpeg
END:VEVENT
BEGIN:VEVENT
DTSTART;TZID=UTC:20300826T183000
DTEND;TZID=UTC:20300826T203000
DTSTAMP:20260424T052823
CREATED:20251110T143412Z
LAST-MODIFIED:20251110T225244Z
UID:10000527-1913999400-1914006600@www.exploredowntowntigard.com
SUMMARY:Trivia Sunset at Beach Hut
DESCRIPTION:Trivia Mondays at Sunset at Beach Hut 🌅🍹\nMondays | 6:30–8:30 PM \nMake Mondays something to look forward to! Join us at Sunset at Beach Hut for two hours of laughs\, drinks\, and friendly competition as you put your trivia skills to the test. From pop culture and music to movies and random fun facts\, every round is a new chance to show off what you know (or pretend you do 😉). \nCome early\, grab a drink\, and settle in for the perfect mix of brainpower and beach vibes. It’s totally free to play\, and there are prizes up for grabs each week — plus bragging rights that last until next Monday. \nArrive early to snag $2 off of your drink of choice\, valid 5:30-6:30pm on event nights! \nBring your friends\, bring your coworkers\, or just come hang with the regulars. Either way\, you’ll have a blast under the Sunset lights. \nTag your trivia crew and get ready for your new favorite Monday night tradition! 🌴🧠 \n 
URL:https://www.exploredowntowntigard.com/event/trivia-sunset-at-beach-hut/2030-08-26/
LOCATION:Sunset at Beach Hut\, 12436 SW Main St\, Tigard\, OR\, 97223\, United States
ATTACH;FMTTYPE=image/jpeg:https://www.exploredowntowntigard.com/wp-content/uploads/2025/11/IMG_3089.jpeg
END:VEVENT
BEGIN:VEVENT
DTSTART;TZID=UTC:20300902T183000
DTEND;TZID=UTC:20300902T203000
DTSTAMP:20260424T052823
CREATED:20251110T143412Z
LAST-MODIFIED:20251110T225244Z
UID:10000528-1914604200-1914611400@www.exploredowntowntigard.com
SUMMARY:Trivia Sunset at Beach Hut
DESCRIPTION:Trivia Mondays at Sunset at Beach Hut 🌅🍹\nMondays | 6:30–8:30 PM \nMake Mondays something to look forward to! Join us at Sunset at Beach Hut for two hours of laughs\, drinks\, and friendly competition as you put your trivia skills to the test. From pop culture and music to movies and random fun facts\, every round is a new chance to show off what you know (or pretend you do 😉). \nCome early\, grab a drink\, and settle in for the perfect mix of brainpower and beach vibes. It’s totally free to play\, and there are prizes up for grabs each week — plus bragging rights that last until next Monday. \nArrive early to snag $2 off of your drink of choice\, valid 5:30-6:30pm on event nights! \nBring your friends\, bring your coworkers\, or just come hang with the regulars. Either way\, you’ll have a blast under the Sunset lights. \nTag your trivia crew and get ready for your new favorite Monday night tradition! 🌴🧠 \n 
URL:https://www.exploredowntowntigard.com/event/trivia-sunset-at-beach-hut/2030-09-02/
LOCATION:Sunset at Beach Hut\, 12436 SW Main St\, Tigard\, OR\, 97223\, United States
ATTACH;FMTTYPE=image/jpeg:https://www.exploredowntowntigard.com/wp-content/uploads/2025/11/IMG_3089.jpeg
END:VEVENT
BEGIN:VEVENT
DTSTART;TZID=UTC:20300909T183000
DTEND;TZID=UTC:20300909T203000
DTSTAMP:20260424T052823
CREATED:20251110T143412Z
LAST-MODIFIED:20251110T225244Z
UID:10000529-1915209000-1915216200@www.exploredowntowntigard.com
SUMMARY:Trivia Sunset at Beach Hut
DESCRIPTION:Trivia Mondays at Sunset at Beach Hut 🌅🍹\nMondays | 6:30–8:30 PM \nMake Mondays something to look forward to! Join us at Sunset at Beach Hut for two hours of laughs\, drinks\, and friendly competition as you put your trivia skills to the test. From pop culture and music to movies and random fun facts\, every round is a new chance to show off what you know (or pretend you do 😉). \nCome early\, grab a drink\, and settle in for the perfect mix of brainpower and beach vibes. It’s totally free to play\, and there are prizes up for grabs each week — plus bragging rights that last until next Monday. \nArrive early to snag $2 off of your drink of choice\, valid 5:30-6:30pm on event nights! \nBring your friends\, bring your coworkers\, or just come hang with the regulars. Either way\, you’ll have a blast under the Sunset lights. \nTag your trivia crew and get ready for your new favorite Monday night tradition! 🌴🧠 \n 
URL:https://www.exploredowntowntigard.com/event/trivia-sunset-at-beach-hut/2030-09-09/
LOCATION:Sunset at Beach Hut\, 12436 SW Main St\, Tigard\, OR\, 97223\, United States
ATTACH;FMTTYPE=image/jpeg:https://www.exploredowntowntigard.com/wp-content/uploads/2025/11/IMG_3089.jpeg
END:VEVENT
BEGIN:VEVENT
DTSTART;TZID=UTC:20300916T183000
DTEND;TZID=UTC:20300916T203000
DTSTAMP:20260424T052823
CREATED:20251110T143412Z
LAST-MODIFIED:20251110T225244Z
UID:10000530-1915813800-1915821000@www.exploredowntowntigard.com
SUMMARY:Trivia Sunset at Beach Hut
DESCRIPTION:Trivia Mondays at Sunset at Beach Hut 🌅🍹\nMondays | 6:30–8:30 PM \nMake Mondays something to look forward to! Join us at Sunset at Beach Hut for two hours of laughs\, drinks\, and friendly competition as you put your trivia skills to the test. From pop culture and music to movies and random fun facts\, every round is a new chance to show off what you know (or pretend you do 😉). \nCome early\, grab a drink\, and settle in for the perfect mix of brainpower and beach vibes. It’s totally free to play\, and there are prizes up for grabs each week — plus bragging rights that last until next Monday. \nArrive early to snag $2 off of your drink of choice\, valid 5:30-6:30pm on event nights! \nBring your friends\, bring your coworkers\, or just come hang with the regulars. Either way\, you’ll have a blast under the Sunset lights. \nTag your trivia crew and get ready for your new favorite Monday night tradition! 🌴🧠 \n 
URL:https://www.exploredowntowntigard.com/event/trivia-sunset-at-beach-hut/2030-09-16/
LOCATION:Sunset at Beach Hut\, 12436 SW Main St\, Tigard\, OR\, 97223\, United States
ATTACH;FMTTYPE=image/jpeg:https://www.exploredowntowntigard.com/wp-content/uploads/2025/11/IMG_3089.jpeg
END:VEVENT
BEGIN:VEVENT
DTSTART;TZID=UTC:20300923T183000
DTEND;TZID=UTC:20300923T203000
DTSTAMP:20260424T052823
CREATED:20251110T143412Z
LAST-MODIFIED:20251110T225244Z
UID:10000531-1916418600-1916425800@www.exploredowntowntigard.com
SUMMARY:Trivia Sunset at Beach Hut
DESCRIPTION:Trivia Mondays at Sunset at Beach Hut 🌅🍹\nMondays | 6:30–8:30 PM \nMake Mondays something to look forward to! Join us at Sunset at Beach Hut for two hours of laughs\, drinks\, and friendly competition as you put your trivia skills to the test. From pop culture and music to movies and random fun facts\, every round is a new chance to show off what you know (or pretend you do 😉). \nCome early\, grab a drink\, and settle in for the perfect mix of brainpower and beach vibes. It’s totally free to play\, and there are prizes up for grabs each week — plus bragging rights that last until next Monday. \nArrive early to snag $2 off of your drink of choice\, valid 5:30-6:30pm on event nights! \nBring your friends\, bring your coworkers\, or just come hang with the regulars. Either way\, you’ll have a blast under the Sunset lights. \nTag your trivia crew and get ready for your new favorite Monday night tradition! 🌴🧠 \n 
URL:https://www.exploredowntowntigard.com/event/trivia-sunset-at-beach-hut/2030-09-23/
LOCATION:Sunset at Beach Hut\, 12436 SW Main St\, Tigard\, OR\, 97223\, United States
ATTACH;FMTTYPE=image/jpeg:https://www.exploredowntowntigard.com/wp-content/uploads/2025/11/IMG_3089.jpeg
END:VEVENT
BEGIN:VEVENT
DTSTART;TZID=UTC:20300930T183000
DTEND;TZID=UTC:20300930T203000
DTSTAMP:20260424T052823
CREATED:20251110T143412Z
LAST-MODIFIED:20251110T225244Z
UID:10000532-1917023400-1917030600@www.exploredowntowntigard.com
SUMMARY:Trivia Sunset at Beach Hut
DESCRIPTION:Trivia Mondays at Sunset at Beach Hut 🌅🍹\nMondays | 6:30–8:30 PM \nMake Mondays something to look forward to! Join us at Sunset at Beach Hut for two hours of laughs\, drinks\, and friendly competition as you put your trivia skills to the test. From pop culture and music to movies and random fun facts\, every round is a new chance to show off what you know (or pretend you do 😉). \nCome early\, grab a drink\, and settle in for the perfect mix of brainpower and beach vibes. It’s totally free to play\, and there are prizes up for grabs each week — plus bragging rights that last until next Monday. \nArrive early to snag $2 off of your drink of choice\, valid 5:30-6:30pm on event nights! \nBring your friends\, bring your coworkers\, or just come hang with the regulars. Either way\, you’ll have a blast under the Sunset lights. \nTag your trivia crew and get ready for your new favorite Monday night tradition! 🌴🧠 \n 
URL:https://www.exploredowntowntigard.com/event/trivia-sunset-at-beach-hut/2030-09-30/
LOCATION:Sunset at Beach Hut\, 12436 SW Main St\, Tigard\, OR\, 97223\, United States
ATTACH;FMTTYPE=image/jpeg:https://www.exploredowntowntigard.com/wp-content/uploads/2025/11/IMG_3089.jpeg
END:VEVENT
BEGIN:VEVENT
DTSTART;TZID=UTC:20301007T183000
DTEND;TZID=UTC:20301007T203000
DTSTAMP:20260424T052823
CREATED:20251110T143412Z
LAST-MODIFIED:20251110T225244Z
UID:10000533-1917628200-1917635400@www.exploredowntowntigard.com
SUMMARY:Trivia Sunset at Beach Hut
DESCRIPTION:Trivia Mondays at Sunset at Beach Hut 🌅🍹\nMondays | 6:30–8:30 PM \nMake Mondays something to look forward to! Join us at Sunset at Beach Hut for two hours of laughs\, drinks\, and friendly competition as you put your trivia skills to the test. From pop culture and music to movies and random fun facts\, every round is a new chance to show off what you know (or pretend you do 😉). \nCome early\, grab a drink\, and settle in for the perfect mix of brainpower and beach vibes. It’s totally free to play\, and there are prizes up for grabs each week — plus bragging rights that last until next Monday. \nArrive early to snag $2 off of your drink of choice\, valid 5:30-6:30pm on event nights! \nBring your friends\, bring your coworkers\, or just come hang with the regulars. Either way\, you’ll have a blast under the Sunset lights. \nTag your trivia crew and get ready for your new favorite Monday night tradition! 🌴🧠 \n 
URL:https://www.exploredowntowntigard.com/event/trivia-sunset-at-beach-hut/2030-10-07/
LOCATION:Sunset at Beach Hut\, 12436 SW Main St\, Tigard\, OR\, 97223\, United States
ATTACH;FMTTYPE=image/jpeg:https://www.exploredowntowntigard.com/wp-content/uploads/2025/11/IMG_3089.jpeg
END:VEVENT
BEGIN:VEVENT
DTSTART;TZID=UTC:20301014T183000
DTEND;TZID=UTC:20301014T203000
DTSTAMP:20260424T052823
CREATED:20251110T143412Z
LAST-MODIFIED:20251110T225244Z
UID:10000534-1918233000-1918240200@www.exploredowntowntigard.com
SUMMARY:Trivia Sunset at Beach Hut
DESCRIPTION:Trivia Mondays at Sunset at Beach Hut 🌅🍹\nMondays | 6:30–8:30 PM \nMake Mondays something to look forward to! Join us at Sunset at Beach Hut for two hours of laughs\, drinks\, and friendly competition as you put your trivia skills to the test. From pop culture and music to movies and random fun facts\, every round is a new chance to show off what you know (or pretend you do 😉). \nCome early\, grab a drink\, and settle in for the perfect mix of brainpower and beach vibes. It’s totally free to play\, and there are prizes up for grabs each week — plus bragging rights that last until next Monday. \nArrive early to snag $2 off of your drink of choice\, valid 5:30-6:30pm on event nights! \nBring your friends\, bring your coworkers\, or just come hang with the regulars. Either way\, you’ll have a blast under the Sunset lights. \nTag your trivia crew and get ready for your new favorite Monday night tradition! 🌴🧠 \n 
URL:https://www.exploredowntowntigard.com/event/trivia-sunset-at-beach-hut/2030-10-14/
LOCATION:Sunset at Beach Hut\, 12436 SW Main St\, Tigard\, OR\, 97223\, United States
ATTACH;FMTTYPE=image/jpeg:https://www.exploredowntowntigard.com/wp-content/uploads/2025/11/IMG_3089.jpeg
END:VEVENT
BEGIN:VEVENT
DTSTART;TZID=UTC:20301021T183000
DTEND;TZID=UTC:20301021T203000
DTSTAMP:20260424T052823
CREATED:20251110T143412Z
LAST-MODIFIED:20251110T225244Z
UID:10000535-1918837800-1918845000@www.exploredowntowntigard.com
SUMMARY:Trivia Sunset at Beach Hut
DESCRIPTION:Trivia Mondays at Sunset at Beach Hut 🌅🍹\nMondays | 6:30–8:30 PM \nMake Mondays something to look forward to! Join us at Sunset at Beach Hut for two hours of laughs\, drinks\, and friendly competition as you put your trivia skills to the test. From pop culture and music to movies and random fun facts\, every round is a new chance to show off what you know (or pretend you do 😉). \nCome early\, grab a drink\, and settle in for the perfect mix of brainpower and beach vibes. It’s totally free to play\, and there are prizes up for grabs each week — plus bragging rights that last until next Monday. \nArrive early to snag $2 off of your drink of choice\, valid 5:30-6:30pm on event nights! \nBring your friends\, bring your coworkers\, or just come hang with the regulars. Either way\, you’ll have a blast under the Sunset lights. \nTag your trivia crew and get ready for your new favorite Monday night tradition! 🌴🧠 \n 
URL:https://www.exploredowntowntigard.com/event/trivia-sunset-at-beach-hut/2030-10-21/
LOCATION:Sunset at Beach Hut\, 12436 SW Main St\, Tigard\, OR\, 97223\, United States
ATTACH;FMTTYPE=image/jpeg:https://www.exploredowntowntigard.com/wp-content/uploads/2025/11/IMG_3089.jpeg
END:VEVENT
BEGIN:VEVENT
DTSTART;TZID=UTC:20301028T183000
DTEND;TZID=UTC:20301028T203000
DTSTAMP:20260424T052823
CREATED:20251110T143412Z
LAST-MODIFIED:20251110T225244Z
UID:10000536-1919442600-1919449800@www.exploredowntowntigard.com
SUMMARY:Trivia Sunset at Beach Hut
DESCRIPTION:Trivia Mondays at Sunset at Beach Hut 🌅🍹\nMondays | 6:30–8:30 PM \nMake Mondays something to look forward to! Join us at Sunset at Beach Hut for two hours of laughs\, drinks\, and friendly competition as you put your trivia skills to the test. From pop culture and music to movies and random fun facts\, every round is a new chance to show off what you know (or pretend you do 😉). \nCome early\, grab a drink\, and settle in for the perfect mix of brainpower and beach vibes. It’s totally free to play\, and there are prizes up for grabs each week — plus bragging rights that last until next Monday. \nArrive early to snag $2 off of your drink of choice\, valid 5:30-6:30pm on event nights! \nBring your friends\, bring your coworkers\, or just come hang with the regulars. Either way\, you’ll have a blast under the Sunset lights. \nTag your trivia crew and get ready for your new favorite Monday night tradition! 🌴🧠 \n 
URL:https://www.exploredowntowntigard.com/event/trivia-sunset-at-beach-hut/2030-10-28/
LOCATION:Sunset at Beach Hut\, 12436 SW Main St\, Tigard\, OR\, 97223\, United States
ATTACH;FMTTYPE=image/jpeg:https://www.exploredowntowntigard.com/wp-content/uploads/2025/11/IMG_3089.jpeg
END:VEVENT
BEGIN:VEVENT
DTSTART;TZID=UTC:20301104T183000
DTEND;TZID=UTC:20301104T203000
DTSTAMP:20260424T052823
CREATED:20251110T143412Z
LAST-MODIFIED:20251110T225244Z
UID:10000537-1920047400-1920054600@www.exploredowntowntigard.com
SUMMARY:Trivia Sunset at Beach Hut
DESCRIPTION:Trivia Mondays at Sunset at Beach Hut 🌅🍹\nMondays | 6:30–8:30 PM \nMake Mondays something to look forward to! Join us at Sunset at Beach Hut for two hours of laughs\, drinks\, and friendly competition as you put your trivia skills to the test. From pop culture and music to movies and random fun facts\, every round is a new chance to show off what you know (or pretend you do 😉). \nCome early\, grab a drink\, and settle in for the perfect mix of brainpower and beach vibes. It’s totally free to play\, and there are prizes up for grabs each week — plus bragging rights that last until next Monday. \nArrive early to snag $2 off of your drink of choice\, valid 5:30-6:30pm on event nights! \nBring your friends\, bring your coworkers\, or just come hang with the regulars. Either way\, you’ll have a blast under the Sunset lights. \nTag your trivia crew and get ready for your new favorite Monday night tradition! 🌴🧠 \n 
URL:https://www.exploredowntowntigard.com/event/trivia-sunset-at-beach-hut/2030-11-04/
LOCATION:Sunset at Beach Hut\, 12436 SW Main St\, Tigard\, OR\, 97223\, United States
ATTACH;FMTTYPE=image/jpeg:https://www.exploredowntowntigard.com/wp-content/uploads/2025/11/IMG_3089.jpeg
END:VEVENT
END:VCALENDAR