BEGIN:VCALENDAR
VERSION:2.0
PRODID:-//Tigard Downtown Alliance - ECPv6.15.18//NONSGML v1.0//EN
CALSCALE:GREGORIAN
METHOD:PUBLISH
X-WR-CALNAME:Tigard Downtown Alliance
X-ORIGINAL-URL:https://www.exploredowntowntigard.com
X-WR-CALDESC:Events for Tigard Downtown Alliance
REFRESH-INTERVAL;VALUE=DURATION:PT1H
X-Robots-Tag:noindex
X-PUBLISHED-TTL:PT1H
BEGIN:VTIMEZONE
TZID:UTC
BEGIN:STANDARD
TZOFFSETFROM:+0000
TZOFFSETTO:+0000
TZNAME:UTC
DTSTART:20280101T000000
END:STANDARD
END:VTIMEZONE
BEGIN:VEVENT
DTSTART;TZID=UTC:20290520T123000
DTEND;TZID=UTC:20290520T170000
DTSTAMP:20260426T020509
CREATED:20251110T222222Z
LAST-MODIFIED:20251110T225412Z
UID:10000720-1873974600-1873990800@www.exploredowntowntigard.com
SUMMARY:Free Poker Sunset at Beach Hut
DESCRIPTION:Play FREE Texas Hold’em with Oregon’s largest poker league. Never a buy in\, just fun!\n\nYour new best friends can’t wait to meet you.\n\nPoker presented by MAD Poker\nVisit our website at www.madpoker.info
URL:https://www.exploredowntowntigard.com/event/free-poker-sunset-at-beach-hut/2029-05-20/
ATTACH;FMTTYPE=image/jpeg:https://www.exploredowntowntigard.com/wp-content/uploads/2025/11/Poker-Image.jpg
END:VEVENT
BEGIN:VEVENT
DTSTART;TZID=UTC:20290527T123000
DTEND;TZID=UTC:20290527T170000
DTSTAMP:20260426T020509
CREATED:20251110T222222Z
LAST-MODIFIED:20251110T225412Z
UID:10000721-1874579400-1874595600@www.exploredowntowntigard.com
SUMMARY:Free Poker Sunset at Beach Hut
DESCRIPTION:Play FREE Texas Hold’em with Oregon’s largest poker league. Never a buy in\, just fun!\n\nYour new best friends can’t wait to meet you.\n\nPoker presented by MAD Poker\nVisit our website at www.madpoker.info
URL:https://www.exploredowntowntigard.com/event/free-poker-sunset-at-beach-hut/2029-05-27/
ATTACH;FMTTYPE=image/jpeg:https://www.exploredowntowntigard.com/wp-content/uploads/2025/11/Poker-Image.jpg
END:VEVENT
BEGIN:VEVENT
DTSTART;TZID=UTC:20290603T123000
DTEND;TZID=UTC:20290603T170000
DTSTAMP:20260426T020509
CREATED:20251110T222222Z
LAST-MODIFIED:20251110T225412Z
UID:10000722-1875184200-1875200400@www.exploredowntowntigard.com
SUMMARY:Free Poker Sunset at Beach Hut
DESCRIPTION:Play FREE Texas Hold’em with Oregon’s largest poker league. Never a buy in\, just fun!\n\nYour new best friends can’t wait to meet you.\n\nPoker presented by MAD Poker\nVisit our website at www.madpoker.info
URL:https://www.exploredowntowntigard.com/event/free-poker-sunset-at-beach-hut/2029-06-03/
ATTACH;FMTTYPE=image/jpeg:https://www.exploredowntowntigard.com/wp-content/uploads/2025/11/Poker-Image.jpg
END:VEVENT
BEGIN:VEVENT
DTSTART;TZID=UTC:20290610T123000
DTEND;TZID=UTC:20290610T170000
DTSTAMP:20260426T020509
CREATED:20251110T222222Z
LAST-MODIFIED:20251110T225412Z
UID:10000723-1875789000-1875805200@www.exploredowntowntigard.com
SUMMARY:Free Poker Sunset at Beach Hut
DESCRIPTION:Play FREE Texas Hold’em with Oregon’s largest poker league. Never a buy in\, just fun!\n\nYour new best friends can’t wait to meet you.\n\nPoker presented by MAD Poker\nVisit our website at www.madpoker.info
URL:https://www.exploredowntowntigard.com/event/free-poker-sunset-at-beach-hut/2029-06-10/
ATTACH;FMTTYPE=image/jpeg:https://www.exploredowntowntigard.com/wp-content/uploads/2025/11/Poker-Image.jpg
END:VEVENT
BEGIN:VEVENT
DTSTART;TZID=UTC:20290617T123000
DTEND;TZID=UTC:20290617T170000
DTSTAMP:20260426T020509
CREATED:20251110T222222Z
LAST-MODIFIED:20251110T225412Z
UID:10000724-1876393800-1876410000@www.exploredowntowntigard.com
SUMMARY:Free Poker Sunset at Beach Hut
DESCRIPTION:Play FREE Texas Hold’em with Oregon’s largest poker league. Never a buy in\, just fun!\n\nYour new best friends can’t wait to meet you.\n\nPoker presented by MAD Poker\nVisit our website at www.madpoker.info
URL:https://www.exploredowntowntigard.com/event/free-poker-sunset-at-beach-hut/2029-06-17/
ATTACH;FMTTYPE=image/jpeg:https://www.exploredowntowntigard.com/wp-content/uploads/2025/11/Poker-Image.jpg
END:VEVENT
BEGIN:VEVENT
DTSTART;TZID=UTC:20290624T123000
DTEND;TZID=UTC:20290624T170000
DTSTAMP:20260426T020509
CREATED:20251110T222222Z
LAST-MODIFIED:20251110T225412Z
UID:10000725-1876998600-1877014800@www.exploredowntowntigard.com
SUMMARY:Free Poker Sunset at Beach Hut
DESCRIPTION:Play FREE Texas Hold’em with Oregon’s largest poker league. Never a buy in\, just fun!\n\nYour new best friends can’t wait to meet you.\n\nPoker presented by MAD Poker\nVisit our website at www.madpoker.info
URL:https://www.exploredowntowntigard.com/event/free-poker-sunset-at-beach-hut/2029-06-24/
ATTACH;FMTTYPE=image/jpeg:https://www.exploredowntowntigard.com/wp-content/uploads/2025/11/Poker-Image.jpg
END:VEVENT
BEGIN:VEVENT
DTSTART;TZID=UTC:20290701T123000
DTEND;TZID=UTC:20290701T170000
DTSTAMP:20260426T020509
CREATED:20251110T222222Z
LAST-MODIFIED:20251110T225412Z
UID:10000726-1877603400-1877619600@www.exploredowntowntigard.com
SUMMARY:Free Poker Sunset at Beach Hut
DESCRIPTION:Play FREE Texas Hold’em with Oregon’s largest poker league. Never a buy in\, just fun!\n\nYour new best friends can’t wait to meet you.\n\nPoker presented by MAD Poker\nVisit our website at www.madpoker.info
URL:https://www.exploredowntowntigard.com/event/free-poker-sunset-at-beach-hut/2029-07-01/
ATTACH;FMTTYPE=image/jpeg:https://www.exploredowntowntigard.com/wp-content/uploads/2025/11/Poker-Image.jpg
END:VEVENT
BEGIN:VEVENT
DTSTART;TZID=UTC:20290708T123000
DTEND;TZID=UTC:20290708T170000
DTSTAMP:20260426T020509
CREATED:20251110T222222Z
LAST-MODIFIED:20251110T225412Z
UID:10000727-1878208200-1878224400@www.exploredowntowntigard.com
SUMMARY:Free Poker Sunset at Beach Hut
DESCRIPTION:Play FREE Texas Hold’em with Oregon’s largest poker league. Never a buy in\, just fun!\n\nYour new best friends can’t wait to meet you.\n\nPoker presented by MAD Poker\nVisit our website at www.madpoker.info
URL:https://www.exploredowntowntigard.com/event/free-poker-sunset-at-beach-hut/2029-07-08/
ATTACH;FMTTYPE=image/jpeg:https://www.exploredowntowntigard.com/wp-content/uploads/2025/11/Poker-Image.jpg
END:VEVENT
BEGIN:VEVENT
DTSTART;TZID=UTC:20290715T123000
DTEND;TZID=UTC:20290715T170000
DTSTAMP:20260426T020509
CREATED:20251110T222222Z
LAST-MODIFIED:20251110T225412Z
UID:10000728-1878813000-1878829200@www.exploredowntowntigard.com
SUMMARY:Free Poker Sunset at Beach Hut
DESCRIPTION:Play FREE Texas Hold’em with Oregon’s largest poker league. Never a buy in\, just fun!\n\nYour new best friends can’t wait to meet you.\n\nPoker presented by MAD Poker\nVisit our website at www.madpoker.info
URL:https://www.exploredowntowntigard.com/event/free-poker-sunset-at-beach-hut/2029-07-15/
ATTACH;FMTTYPE=image/jpeg:https://www.exploredowntowntigard.com/wp-content/uploads/2025/11/Poker-Image.jpg
END:VEVENT
BEGIN:VEVENT
DTSTART;TZID=UTC:20290722T123000
DTEND;TZID=UTC:20290722T170000
DTSTAMP:20260426T020509
CREATED:20251110T222222Z
LAST-MODIFIED:20251110T225412Z
UID:10000729-1879417800-1879434000@www.exploredowntowntigard.com
SUMMARY:Free Poker Sunset at Beach Hut
DESCRIPTION:Play FREE Texas Hold’em with Oregon’s largest poker league. Never a buy in\, just fun!\n\nYour new best friends can’t wait to meet you.\n\nPoker presented by MAD Poker\nVisit our website at www.madpoker.info
URL:https://www.exploredowntowntigard.com/event/free-poker-sunset-at-beach-hut/2029-07-22/
ATTACH;FMTTYPE=image/jpeg:https://www.exploredowntowntigard.com/wp-content/uploads/2025/11/Poker-Image.jpg
END:VEVENT
BEGIN:VEVENT
DTSTART;TZID=UTC:20290729T123000
DTEND;TZID=UTC:20290729T170000
DTSTAMP:20260426T020509
CREATED:20251110T222222Z
LAST-MODIFIED:20251110T225412Z
UID:10000730-1880022600-1880038800@www.exploredowntowntigard.com
SUMMARY:Free Poker Sunset at Beach Hut
DESCRIPTION:Play FREE Texas Hold’em with Oregon’s largest poker league. Never a buy in\, just fun!\n\nYour new best friends can’t wait to meet you.\n\nPoker presented by MAD Poker\nVisit our website at www.madpoker.info
URL:https://www.exploredowntowntigard.com/event/free-poker-sunset-at-beach-hut/2029-07-29/
ATTACH;FMTTYPE=image/jpeg:https://www.exploredowntowntigard.com/wp-content/uploads/2025/11/Poker-Image.jpg
END:VEVENT
BEGIN:VEVENT
DTSTART;TZID=UTC:20290805T123000
DTEND;TZID=UTC:20290805T170000
DTSTAMP:20260426T020509
CREATED:20251110T222222Z
LAST-MODIFIED:20251110T225412Z
UID:10000731-1880627400-1880643600@www.exploredowntowntigard.com
SUMMARY:Free Poker Sunset at Beach Hut
DESCRIPTION:Play FREE Texas Hold’em with Oregon’s largest poker league. Never a buy in\, just fun!\n\nYour new best friends can’t wait to meet you.\n\nPoker presented by MAD Poker\nVisit our website at www.madpoker.info
URL:https://www.exploredowntowntigard.com/event/free-poker-sunset-at-beach-hut/2029-08-05/
ATTACH;FMTTYPE=image/jpeg:https://www.exploredowntowntigard.com/wp-content/uploads/2025/11/Poker-Image.jpg
END:VEVENT
BEGIN:VEVENT
DTSTART;TZID=UTC:20290812T123000
DTEND;TZID=UTC:20290812T170000
DTSTAMP:20260426T020509
CREATED:20251110T222222Z
LAST-MODIFIED:20251110T225412Z
UID:10000732-1881232200-1881248400@www.exploredowntowntigard.com
SUMMARY:Free Poker Sunset at Beach Hut
DESCRIPTION:Play FREE Texas Hold’em with Oregon’s largest poker league. Never a buy in\, just fun!\n\nYour new best friends can’t wait to meet you.\n\nPoker presented by MAD Poker\nVisit our website at www.madpoker.info
URL:https://www.exploredowntowntigard.com/event/free-poker-sunset-at-beach-hut/2029-08-12/
ATTACH;FMTTYPE=image/jpeg:https://www.exploredowntowntigard.com/wp-content/uploads/2025/11/Poker-Image.jpg
END:VEVENT
BEGIN:VEVENT
DTSTART;TZID=UTC:20290819T123000
DTEND;TZID=UTC:20290819T170000
DTSTAMP:20260426T020509
CREATED:20251110T222222Z
LAST-MODIFIED:20251110T225412Z
UID:10000733-1881837000-1881853200@www.exploredowntowntigard.com
SUMMARY:Free Poker Sunset at Beach Hut
DESCRIPTION:Play FREE Texas Hold’em with Oregon’s largest poker league. Never a buy in\, just fun!\n\nYour new best friends can’t wait to meet you.\n\nPoker presented by MAD Poker\nVisit our website at www.madpoker.info
URL:https://www.exploredowntowntigard.com/event/free-poker-sunset-at-beach-hut/2029-08-19/
ATTACH;FMTTYPE=image/jpeg:https://www.exploredowntowntigard.com/wp-content/uploads/2025/11/Poker-Image.jpg
END:VEVENT
BEGIN:VEVENT
DTSTART;TZID=UTC:20290826T123000
DTEND;TZID=UTC:20290826T170000
DTSTAMP:20260426T020509
CREATED:20251110T222222Z
LAST-MODIFIED:20251110T225412Z
UID:10000734-1882441800-1882458000@www.exploredowntowntigard.com
SUMMARY:Free Poker Sunset at Beach Hut
DESCRIPTION:Play FREE Texas Hold’em with Oregon’s largest poker league. Never a buy in\, just fun!\n\nYour new best friends can’t wait to meet you.\n\nPoker presented by MAD Poker\nVisit our website at www.madpoker.info
URL:https://www.exploredowntowntigard.com/event/free-poker-sunset-at-beach-hut/2029-08-26/
ATTACH;FMTTYPE=image/jpeg:https://www.exploredowntowntigard.com/wp-content/uploads/2025/11/Poker-Image.jpg
END:VEVENT
BEGIN:VEVENT
DTSTART;TZID=UTC:20290902T123000
DTEND;TZID=UTC:20290902T170000
DTSTAMP:20260426T020509
CREATED:20251110T222222Z
LAST-MODIFIED:20251110T225412Z
UID:10000735-1883046600-1883062800@www.exploredowntowntigard.com
SUMMARY:Free Poker Sunset at Beach Hut
DESCRIPTION:Play FREE Texas Hold’em with Oregon’s largest poker league. Never a buy in\, just fun!\n\nYour new best friends can’t wait to meet you.\n\nPoker presented by MAD Poker\nVisit our website at www.madpoker.info
URL:https://www.exploredowntowntigard.com/event/free-poker-sunset-at-beach-hut/2029-09-02/
ATTACH;FMTTYPE=image/jpeg:https://www.exploredowntowntigard.com/wp-content/uploads/2025/11/Poker-Image.jpg
END:VEVENT
BEGIN:VEVENT
DTSTART;TZID=UTC:20290909T123000
DTEND;TZID=UTC:20290909T170000
DTSTAMP:20260426T020509
CREATED:20251110T222222Z
LAST-MODIFIED:20251110T225412Z
UID:10000736-1883651400-1883667600@www.exploredowntowntigard.com
SUMMARY:Free Poker Sunset at Beach Hut
DESCRIPTION:Play FREE Texas Hold’em with Oregon’s largest poker league. Never a buy in\, just fun!\n\nYour new best friends can’t wait to meet you.\n\nPoker presented by MAD Poker\nVisit our website at www.madpoker.info
URL:https://www.exploredowntowntigard.com/event/free-poker-sunset-at-beach-hut/2029-09-09/
ATTACH;FMTTYPE=image/jpeg:https://www.exploredowntowntigard.com/wp-content/uploads/2025/11/Poker-Image.jpg
END:VEVENT
BEGIN:VEVENT
DTSTART;TZID=UTC:20290916T123000
DTEND;TZID=UTC:20290916T170000
DTSTAMP:20260426T020509
CREATED:20251110T222222Z
LAST-MODIFIED:20251110T225412Z
UID:10000737-1884256200-1884272400@www.exploredowntowntigard.com
SUMMARY:Free Poker Sunset at Beach Hut
DESCRIPTION:Play FREE Texas Hold’em with Oregon’s largest poker league. Never a buy in\, just fun!\n\nYour new best friends can’t wait to meet you.\n\nPoker presented by MAD Poker\nVisit our website at www.madpoker.info
URL:https://www.exploredowntowntigard.com/event/free-poker-sunset-at-beach-hut/2029-09-16/
ATTACH;FMTTYPE=image/jpeg:https://www.exploredowntowntigard.com/wp-content/uploads/2025/11/Poker-Image.jpg
END:VEVENT
BEGIN:VEVENT
DTSTART;TZID=UTC:20290923T123000
DTEND;TZID=UTC:20290923T170000
DTSTAMP:20260426T020509
CREATED:20251110T222222Z
LAST-MODIFIED:20251110T225412Z
UID:10000738-1884861000-1884877200@www.exploredowntowntigard.com
SUMMARY:Free Poker Sunset at Beach Hut
DESCRIPTION:Play FREE Texas Hold’em with Oregon’s largest poker league. Never a buy in\, just fun!\n\nYour new best friends can’t wait to meet you.\n\nPoker presented by MAD Poker\nVisit our website at www.madpoker.info
URL:https://www.exploredowntowntigard.com/event/free-poker-sunset-at-beach-hut/2029-09-23/
ATTACH;FMTTYPE=image/jpeg:https://www.exploredowntowntigard.com/wp-content/uploads/2025/11/Poker-Image.jpg
END:VEVENT
BEGIN:VEVENT
DTSTART;TZID=UTC:20290930T123000
DTEND;TZID=UTC:20290930T170000
DTSTAMP:20260426T020509
CREATED:20251110T222222Z
LAST-MODIFIED:20251110T225412Z
UID:10000739-1885465800-1885482000@www.exploredowntowntigard.com
SUMMARY:Free Poker Sunset at Beach Hut
DESCRIPTION:Play FREE Texas Hold’em with Oregon’s largest poker league. Never a buy in\, just fun!\n\nYour new best friends can’t wait to meet you.\n\nPoker presented by MAD Poker\nVisit our website at www.madpoker.info
URL:https://www.exploredowntowntigard.com/event/free-poker-sunset-at-beach-hut/2029-09-30/
ATTACH;FMTTYPE=image/jpeg:https://www.exploredowntowntigard.com/wp-content/uploads/2025/11/Poker-Image.jpg
END:VEVENT
BEGIN:VEVENT
DTSTART;TZID=UTC:20291007T123000
DTEND;TZID=UTC:20291007T170000
DTSTAMP:20260426T020509
CREATED:20251110T222222Z
LAST-MODIFIED:20251110T225412Z
UID:10000740-1886070600-1886086800@www.exploredowntowntigard.com
SUMMARY:Free Poker Sunset at Beach Hut
DESCRIPTION:Play FREE Texas Hold’em with Oregon’s largest poker league. Never a buy in\, just fun!\n\nYour new best friends can’t wait to meet you.\n\nPoker presented by MAD Poker\nVisit our website at www.madpoker.info
URL:https://www.exploredowntowntigard.com/event/free-poker-sunset-at-beach-hut/2029-10-07/
ATTACH;FMTTYPE=image/jpeg:https://www.exploredowntowntigard.com/wp-content/uploads/2025/11/Poker-Image.jpg
END:VEVENT
BEGIN:VEVENT
DTSTART;TZID=UTC:20291014T123000
DTEND;TZID=UTC:20291014T170000
DTSTAMP:20260426T020509
CREATED:20251110T222222Z
LAST-MODIFIED:20251110T225412Z
UID:10000741-1886675400-1886691600@www.exploredowntowntigard.com
SUMMARY:Free Poker Sunset at Beach Hut
DESCRIPTION:Play FREE Texas Hold’em with Oregon’s largest poker league. Never a buy in\, just fun!\n\nYour new best friends can’t wait to meet you.\n\nPoker presented by MAD Poker\nVisit our website at www.madpoker.info
URL:https://www.exploredowntowntigard.com/event/free-poker-sunset-at-beach-hut/2029-10-14/
ATTACH;FMTTYPE=image/jpeg:https://www.exploredowntowntigard.com/wp-content/uploads/2025/11/Poker-Image.jpg
END:VEVENT
BEGIN:VEVENT
DTSTART;TZID=UTC:20291021T123000
DTEND;TZID=UTC:20291021T170000
DTSTAMP:20260426T020509
CREATED:20251110T222222Z
LAST-MODIFIED:20251110T225412Z
UID:10000742-1887280200-1887296400@www.exploredowntowntigard.com
SUMMARY:Free Poker Sunset at Beach Hut
DESCRIPTION:Play FREE Texas Hold’em with Oregon’s largest poker league. Never a buy in\, just fun!\n\nYour new best friends can’t wait to meet you.\n\nPoker presented by MAD Poker\nVisit our website at www.madpoker.info
URL:https://www.exploredowntowntigard.com/event/free-poker-sunset-at-beach-hut/2029-10-21/
ATTACH;FMTTYPE=image/jpeg:https://www.exploredowntowntigard.com/wp-content/uploads/2025/11/Poker-Image.jpg
END:VEVENT
BEGIN:VEVENT
DTSTART;TZID=UTC:20291028T123000
DTEND;TZID=UTC:20291028T170000
DTSTAMP:20260426T020509
CREATED:20251110T222222Z
LAST-MODIFIED:20251110T225412Z
UID:10000743-1887885000-1887901200@www.exploredowntowntigard.com
SUMMARY:Free Poker Sunset at Beach Hut
DESCRIPTION:Play FREE Texas Hold’em with Oregon’s largest poker league. Never a buy in\, just fun!\n\nYour new best friends can’t wait to meet you.\n\nPoker presented by MAD Poker\nVisit our website at www.madpoker.info
URL:https://www.exploredowntowntigard.com/event/free-poker-sunset-at-beach-hut/2029-10-28/
ATTACH;FMTTYPE=image/jpeg:https://www.exploredowntowntigard.com/wp-content/uploads/2025/11/Poker-Image.jpg
END:VEVENT
BEGIN:VEVENT
DTSTART;TZID=UTC:20291104T123000
DTEND;TZID=UTC:20291104T170000
DTSTAMP:20260426T020509
CREATED:20251110T222222Z
LAST-MODIFIED:20251110T225412Z
UID:10000744-1888489800-1888506000@www.exploredowntowntigard.com
SUMMARY:Free Poker Sunset at Beach Hut
DESCRIPTION:Play FREE Texas Hold’em with Oregon’s largest poker league. Never a buy in\, just fun!\n\nYour new best friends can’t wait to meet you.\n\nPoker presented by MAD Poker\nVisit our website at www.madpoker.info
URL:https://www.exploredowntowntigard.com/event/free-poker-sunset-at-beach-hut/2029-11-04/
ATTACH;FMTTYPE=image/jpeg:https://www.exploredowntowntigard.com/wp-content/uploads/2025/11/Poker-Image.jpg
END:VEVENT
BEGIN:VEVENT
DTSTART;TZID=UTC:20291111T123000
DTEND;TZID=UTC:20291111T170000
DTSTAMP:20260426T020509
CREATED:20251110T222222Z
LAST-MODIFIED:20251110T225412Z
UID:10000745-1889094600-1889110800@www.exploredowntowntigard.com
SUMMARY:Free Poker Sunset at Beach Hut
DESCRIPTION:Play FREE Texas Hold’em with Oregon’s largest poker league. Never a buy in\, just fun!\n\nYour new best friends can’t wait to meet you.\n\nPoker presented by MAD Poker\nVisit our website at www.madpoker.info
URL:https://www.exploredowntowntigard.com/event/free-poker-sunset-at-beach-hut/2029-11-11/
ATTACH;FMTTYPE=image/jpeg:https://www.exploredowntowntigard.com/wp-content/uploads/2025/11/Poker-Image.jpg
END:VEVENT
BEGIN:VEVENT
DTSTART;TZID=UTC:20291118T123000
DTEND;TZID=UTC:20291118T170000
DTSTAMP:20260426T020509
CREATED:20251110T222222Z
LAST-MODIFIED:20251110T225412Z
UID:10000746-1889699400-1889715600@www.exploredowntowntigard.com
SUMMARY:Free Poker Sunset at Beach Hut
DESCRIPTION:Play FREE Texas Hold’em with Oregon’s largest poker league. Never a buy in\, just fun!\n\nYour new best friends can’t wait to meet you.\n\nPoker presented by MAD Poker\nVisit our website at www.madpoker.info
URL:https://www.exploredowntowntigard.com/event/free-poker-sunset-at-beach-hut/2029-11-18/
ATTACH;FMTTYPE=image/jpeg:https://www.exploredowntowntigard.com/wp-content/uploads/2025/11/Poker-Image.jpg
END:VEVENT
BEGIN:VEVENT
DTSTART;TZID=UTC:20291125T123000
DTEND;TZID=UTC:20291125T170000
DTSTAMP:20260426T020509
CREATED:20251110T222222Z
LAST-MODIFIED:20251110T225412Z
UID:10000747-1890304200-1890320400@www.exploredowntowntigard.com
SUMMARY:Free Poker Sunset at Beach Hut
DESCRIPTION:Play FREE Texas Hold’em with Oregon’s largest poker league. Never a buy in\, just fun!\n\nYour new best friends can’t wait to meet you.\n\nPoker presented by MAD Poker\nVisit our website at www.madpoker.info
URL:https://www.exploredowntowntigard.com/event/free-poker-sunset-at-beach-hut/2029-11-25/
ATTACH;FMTTYPE=image/jpeg:https://www.exploredowntowntigard.com/wp-content/uploads/2025/11/Poker-Image.jpg
END:VEVENT
BEGIN:VEVENT
DTSTART;TZID=UTC:20291202T123000
DTEND;TZID=UTC:20291202T170000
DTSTAMP:20260426T020509
CREATED:20251110T222222Z
LAST-MODIFIED:20251110T225412Z
UID:10000748-1890909000-1890925200@www.exploredowntowntigard.com
SUMMARY:Free Poker Sunset at Beach Hut
DESCRIPTION:Play FREE Texas Hold’em with Oregon’s largest poker league. Never a buy in\, just fun!\n\nYour new best friends can’t wait to meet you.\n\nPoker presented by MAD Poker\nVisit our website at www.madpoker.info
URL:https://www.exploredowntowntigard.com/event/free-poker-sunset-at-beach-hut/2029-12-02/
ATTACH;FMTTYPE=image/jpeg:https://www.exploredowntowntigard.com/wp-content/uploads/2025/11/Poker-Image.jpg
END:VEVENT
BEGIN:VEVENT
DTSTART;TZID=UTC:20291209T123000
DTEND;TZID=UTC:20291209T170000
DTSTAMP:20260426T020509
CREATED:20251110T222222Z
LAST-MODIFIED:20251110T225412Z
UID:10000749-1891513800-1891530000@www.exploredowntowntigard.com
SUMMARY:Free Poker Sunset at Beach Hut
DESCRIPTION:Play FREE Texas Hold’em with Oregon’s largest poker league. Never a buy in\, just fun!\n\nYour new best friends can’t wait to meet you.\n\nPoker presented by MAD Poker\nVisit our website at www.madpoker.info
URL:https://www.exploredowntowntigard.com/event/free-poker-sunset-at-beach-hut/2029-12-09/
ATTACH;FMTTYPE=image/jpeg:https://www.exploredowntowntigard.com/wp-content/uploads/2025/11/Poker-Image.jpg
END:VEVENT
END:VCALENDAR