BEGIN:VCALENDAR
VERSION:2.0
PRODID:-//Tigard Downtown Alliance - ECPv6.15.18//NONSGML v1.0//EN
CALSCALE:GREGORIAN
METHOD:PUBLISH
X-WR-CALNAME:Tigard Downtown Alliance
X-ORIGINAL-URL:https://www.exploredowntowntigard.com
X-WR-CALDESC:Events for Tigard Downtown Alliance
REFRESH-INTERVAL;VALUE=DURATION:PT1H
X-Robots-Tag:noindex
X-PUBLISHED-TTL:PT1H
BEGIN:VTIMEZONE
TZID:UTC
BEGIN:STANDARD
TZOFFSETFROM:+0000
TZOFFSETTO:+0000
TZNAME:UTC
DTSTART:20270101T000000
END:STANDARD
END:VTIMEZONE
BEGIN:VEVENT
DTSTART;TZID=UTC:20280604T123000
DTEND;TZID=UTC:20280604T170000
DTSTAMP:20260425T194657
CREATED:20251110T222222Z
LAST-MODIFIED:20251110T225412Z
UID:10000670-1843734600-1843750800@www.exploredowntowntigard.com
SUMMARY:Free Poker Sunset at Beach Hut
DESCRIPTION:Play FREE Texas Hold’em with Oregon’s largest poker league. Never a buy in\, just fun!\n\nYour new best friends can’t wait to meet you.\n\nPoker presented by MAD Poker\nVisit our website at www.madpoker.info
URL:https://www.exploredowntowntigard.com/event/free-poker-sunset-at-beach-hut/2028-06-04/
ATTACH;FMTTYPE=image/jpeg:https://www.exploredowntowntigard.com/wp-content/uploads/2025/11/Poker-Image.jpg
END:VEVENT
BEGIN:VEVENT
DTSTART;TZID=UTC:20280611T123000
DTEND;TZID=UTC:20280611T170000
DTSTAMP:20260425T194657
CREATED:20251110T222222Z
LAST-MODIFIED:20251110T225412Z
UID:10000671-1844339400-1844355600@www.exploredowntowntigard.com
SUMMARY:Free Poker Sunset at Beach Hut
DESCRIPTION:Play FREE Texas Hold’em with Oregon’s largest poker league. Never a buy in\, just fun!\n\nYour new best friends can’t wait to meet you.\n\nPoker presented by MAD Poker\nVisit our website at www.madpoker.info
URL:https://www.exploredowntowntigard.com/event/free-poker-sunset-at-beach-hut/2028-06-11/
ATTACH;FMTTYPE=image/jpeg:https://www.exploredowntowntigard.com/wp-content/uploads/2025/11/Poker-Image.jpg
END:VEVENT
BEGIN:VEVENT
DTSTART;TZID=UTC:20280618T123000
DTEND;TZID=UTC:20280618T170000
DTSTAMP:20260425T194657
CREATED:20251110T222222Z
LAST-MODIFIED:20251110T225412Z
UID:10000672-1844944200-1844960400@www.exploredowntowntigard.com
SUMMARY:Free Poker Sunset at Beach Hut
DESCRIPTION:Play FREE Texas Hold’em with Oregon’s largest poker league. Never a buy in\, just fun!\n\nYour new best friends can’t wait to meet you.\n\nPoker presented by MAD Poker\nVisit our website at www.madpoker.info
URL:https://www.exploredowntowntigard.com/event/free-poker-sunset-at-beach-hut/2028-06-18/
ATTACH;FMTTYPE=image/jpeg:https://www.exploredowntowntigard.com/wp-content/uploads/2025/11/Poker-Image.jpg
END:VEVENT
BEGIN:VEVENT
DTSTART;TZID=UTC:20280625T123000
DTEND;TZID=UTC:20280625T170000
DTSTAMP:20260425T194657
CREATED:20251110T222222Z
LAST-MODIFIED:20251110T225412Z
UID:10000673-1845549000-1845565200@www.exploredowntowntigard.com
SUMMARY:Free Poker Sunset at Beach Hut
DESCRIPTION:Play FREE Texas Hold’em with Oregon’s largest poker league. Never a buy in\, just fun!\n\nYour new best friends can’t wait to meet you.\n\nPoker presented by MAD Poker\nVisit our website at www.madpoker.info
URL:https://www.exploredowntowntigard.com/event/free-poker-sunset-at-beach-hut/2028-06-25/
ATTACH;FMTTYPE=image/jpeg:https://www.exploredowntowntigard.com/wp-content/uploads/2025/11/Poker-Image.jpg
END:VEVENT
BEGIN:VEVENT
DTSTART;TZID=UTC:20280702T123000
DTEND;TZID=UTC:20280702T170000
DTSTAMP:20260425T194657
CREATED:20251110T222222Z
LAST-MODIFIED:20251110T225412Z
UID:10000674-1846153800-1846170000@www.exploredowntowntigard.com
SUMMARY:Free Poker Sunset at Beach Hut
DESCRIPTION:Play FREE Texas Hold’em with Oregon’s largest poker league. Never a buy in\, just fun!\n\nYour new best friends can’t wait to meet you.\n\nPoker presented by MAD Poker\nVisit our website at www.madpoker.info
URL:https://www.exploredowntowntigard.com/event/free-poker-sunset-at-beach-hut/2028-07-02/
ATTACH;FMTTYPE=image/jpeg:https://www.exploredowntowntigard.com/wp-content/uploads/2025/11/Poker-Image.jpg
END:VEVENT
BEGIN:VEVENT
DTSTART;TZID=UTC:20280709T123000
DTEND;TZID=UTC:20280709T170000
DTSTAMP:20260425T194657
CREATED:20251110T222222Z
LAST-MODIFIED:20251110T225412Z
UID:10000675-1846758600-1846774800@www.exploredowntowntigard.com
SUMMARY:Free Poker Sunset at Beach Hut
DESCRIPTION:Play FREE Texas Hold’em with Oregon’s largest poker league. Never a buy in\, just fun!\n\nYour new best friends can’t wait to meet you.\n\nPoker presented by MAD Poker\nVisit our website at www.madpoker.info
URL:https://www.exploredowntowntigard.com/event/free-poker-sunset-at-beach-hut/2028-07-09/
ATTACH;FMTTYPE=image/jpeg:https://www.exploredowntowntigard.com/wp-content/uploads/2025/11/Poker-Image.jpg
END:VEVENT
BEGIN:VEVENT
DTSTART;TZID=UTC:20280716T123000
DTEND;TZID=UTC:20280716T170000
DTSTAMP:20260425T194657
CREATED:20251110T222222Z
LAST-MODIFIED:20251110T225412Z
UID:10000676-1847363400-1847379600@www.exploredowntowntigard.com
SUMMARY:Free Poker Sunset at Beach Hut
DESCRIPTION:Play FREE Texas Hold’em with Oregon’s largest poker league. Never a buy in\, just fun!\n\nYour new best friends can’t wait to meet you.\n\nPoker presented by MAD Poker\nVisit our website at www.madpoker.info
URL:https://www.exploredowntowntigard.com/event/free-poker-sunset-at-beach-hut/2028-07-16/
ATTACH;FMTTYPE=image/jpeg:https://www.exploredowntowntigard.com/wp-content/uploads/2025/11/Poker-Image.jpg
END:VEVENT
BEGIN:VEVENT
DTSTART;TZID=UTC:20280723T123000
DTEND;TZID=UTC:20280723T170000
DTSTAMP:20260425T194657
CREATED:20251110T222222Z
LAST-MODIFIED:20251110T225412Z
UID:10000677-1847968200-1847984400@www.exploredowntowntigard.com
SUMMARY:Free Poker Sunset at Beach Hut
DESCRIPTION:Play FREE Texas Hold’em with Oregon’s largest poker league. Never a buy in\, just fun!\n\nYour new best friends can’t wait to meet you.\n\nPoker presented by MAD Poker\nVisit our website at www.madpoker.info
URL:https://www.exploredowntowntigard.com/event/free-poker-sunset-at-beach-hut/2028-07-23/
ATTACH;FMTTYPE=image/jpeg:https://www.exploredowntowntigard.com/wp-content/uploads/2025/11/Poker-Image.jpg
END:VEVENT
BEGIN:VEVENT
DTSTART;TZID=UTC:20280730T123000
DTEND;TZID=UTC:20280730T170000
DTSTAMP:20260425T194657
CREATED:20251110T222222Z
LAST-MODIFIED:20251110T225412Z
UID:10000678-1848573000-1848589200@www.exploredowntowntigard.com
SUMMARY:Free Poker Sunset at Beach Hut
DESCRIPTION:Play FREE Texas Hold’em with Oregon’s largest poker league. Never a buy in\, just fun!\n\nYour new best friends can’t wait to meet you.\n\nPoker presented by MAD Poker\nVisit our website at www.madpoker.info
URL:https://www.exploredowntowntigard.com/event/free-poker-sunset-at-beach-hut/2028-07-30/
ATTACH;FMTTYPE=image/jpeg:https://www.exploredowntowntigard.com/wp-content/uploads/2025/11/Poker-Image.jpg
END:VEVENT
BEGIN:VEVENT
DTSTART;TZID=UTC:20280806T123000
DTEND;TZID=UTC:20280806T170000
DTSTAMP:20260425T194657
CREATED:20251110T222222Z
LAST-MODIFIED:20251110T225412Z
UID:10000679-1849177800-1849194000@www.exploredowntowntigard.com
SUMMARY:Free Poker Sunset at Beach Hut
DESCRIPTION:Play FREE Texas Hold’em with Oregon’s largest poker league. Never a buy in\, just fun!\n\nYour new best friends can’t wait to meet you.\n\nPoker presented by MAD Poker\nVisit our website at www.madpoker.info
URL:https://www.exploredowntowntigard.com/event/free-poker-sunset-at-beach-hut/2028-08-06/
ATTACH;FMTTYPE=image/jpeg:https://www.exploredowntowntigard.com/wp-content/uploads/2025/11/Poker-Image.jpg
END:VEVENT
BEGIN:VEVENT
DTSTART;TZID=UTC:20280813T123000
DTEND;TZID=UTC:20280813T170000
DTSTAMP:20260425T194657
CREATED:20251110T222222Z
LAST-MODIFIED:20251110T225412Z
UID:10000680-1849782600-1849798800@www.exploredowntowntigard.com
SUMMARY:Free Poker Sunset at Beach Hut
DESCRIPTION:Play FREE Texas Hold’em with Oregon’s largest poker league. Never a buy in\, just fun!\n\nYour new best friends can’t wait to meet you.\n\nPoker presented by MAD Poker\nVisit our website at www.madpoker.info
URL:https://www.exploredowntowntigard.com/event/free-poker-sunset-at-beach-hut/2028-08-13/
ATTACH;FMTTYPE=image/jpeg:https://www.exploredowntowntigard.com/wp-content/uploads/2025/11/Poker-Image.jpg
END:VEVENT
BEGIN:VEVENT
DTSTART;TZID=UTC:20280820T123000
DTEND;TZID=UTC:20280820T170000
DTSTAMP:20260425T194657
CREATED:20251110T222222Z
LAST-MODIFIED:20251110T225412Z
UID:10000681-1850387400-1850403600@www.exploredowntowntigard.com
SUMMARY:Free Poker Sunset at Beach Hut
DESCRIPTION:Play FREE Texas Hold’em with Oregon’s largest poker league. Never a buy in\, just fun!\n\nYour new best friends can’t wait to meet you.\n\nPoker presented by MAD Poker\nVisit our website at www.madpoker.info
URL:https://www.exploredowntowntigard.com/event/free-poker-sunset-at-beach-hut/2028-08-20/
ATTACH;FMTTYPE=image/jpeg:https://www.exploredowntowntigard.com/wp-content/uploads/2025/11/Poker-Image.jpg
END:VEVENT
BEGIN:VEVENT
DTSTART;TZID=UTC:20280827T123000
DTEND;TZID=UTC:20280827T170000
DTSTAMP:20260425T194657
CREATED:20251110T222222Z
LAST-MODIFIED:20251110T225412Z
UID:10000682-1850992200-1851008400@www.exploredowntowntigard.com
SUMMARY:Free Poker Sunset at Beach Hut
DESCRIPTION:Play FREE Texas Hold’em with Oregon’s largest poker league. Never a buy in\, just fun!\n\nYour new best friends can’t wait to meet you.\n\nPoker presented by MAD Poker\nVisit our website at www.madpoker.info
URL:https://www.exploredowntowntigard.com/event/free-poker-sunset-at-beach-hut/2028-08-27/
ATTACH;FMTTYPE=image/jpeg:https://www.exploredowntowntigard.com/wp-content/uploads/2025/11/Poker-Image.jpg
END:VEVENT
BEGIN:VEVENT
DTSTART;TZID=UTC:20280903T123000
DTEND;TZID=UTC:20280903T170000
DTSTAMP:20260425T194657
CREATED:20251110T222222Z
LAST-MODIFIED:20251110T225412Z
UID:10000683-1851597000-1851613200@www.exploredowntowntigard.com
SUMMARY:Free Poker Sunset at Beach Hut
DESCRIPTION:Play FREE Texas Hold’em with Oregon’s largest poker league. Never a buy in\, just fun!\n\nYour new best friends can’t wait to meet you.\n\nPoker presented by MAD Poker\nVisit our website at www.madpoker.info
URL:https://www.exploredowntowntigard.com/event/free-poker-sunset-at-beach-hut/2028-09-03/
ATTACH;FMTTYPE=image/jpeg:https://www.exploredowntowntigard.com/wp-content/uploads/2025/11/Poker-Image.jpg
END:VEVENT
BEGIN:VEVENT
DTSTART;TZID=UTC:20280910T123000
DTEND;TZID=UTC:20280910T170000
DTSTAMP:20260425T194657
CREATED:20251110T222222Z
LAST-MODIFIED:20251110T225412Z
UID:10000684-1852201800-1852218000@www.exploredowntowntigard.com
SUMMARY:Free Poker Sunset at Beach Hut
DESCRIPTION:Play FREE Texas Hold’em with Oregon’s largest poker league. Never a buy in\, just fun!\n\nYour new best friends can’t wait to meet you.\n\nPoker presented by MAD Poker\nVisit our website at www.madpoker.info
URL:https://www.exploredowntowntigard.com/event/free-poker-sunset-at-beach-hut/2028-09-10/
ATTACH;FMTTYPE=image/jpeg:https://www.exploredowntowntigard.com/wp-content/uploads/2025/11/Poker-Image.jpg
END:VEVENT
BEGIN:VEVENT
DTSTART;TZID=UTC:20280917T123000
DTEND;TZID=UTC:20280917T170000
DTSTAMP:20260425T194657
CREATED:20251110T222222Z
LAST-MODIFIED:20251110T225412Z
UID:10000685-1852806600-1852822800@www.exploredowntowntigard.com
SUMMARY:Free Poker Sunset at Beach Hut
DESCRIPTION:Play FREE Texas Hold’em with Oregon’s largest poker league. Never a buy in\, just fun!\n\nYour new best friends can’t wait to meet you.\n\nPoker presented by MAD Poker\nVisit our website at www.madpoker.info
URL:https://www.exploredowntowntigard.com/event/free-poker-sunset-at-beach-hut/2028-09-17/
ATTACH;FMTTYPE=image/jpeg:https://www.exploredowntowntigard.com/wp-content/uploads/2025/11/Poker-Image.jpg
END:VEVENT
BEGIN:VEVENT
DTSTART;TZID=UTC:20280924T123000
DTEND;TZID=UTC:20280924T170000
DTSTAMP:20260425T194657
CREATED:20251110T222222Z
LAST-MODIFIED:20251110T225412Z
UID:10000686-1853411400-1853427600@www.exploredowntowntigard.com
SUMMARY:Free Poker Sunset at Beach Hut
DESCRIPTION:Play FREE Texas Hold’em with Oregon’s largest poker league. Never a buy in\, just fun!\n\nYour new best friends can’t wait to meet you.\n\nPoker presented by MAD Poker\nVisit our website at www.madpoker.info
URL:https://www.exploredowntowntigard.com/event/free-poker-sunset-at-beach-hut/2028-09-24/
ATTACH;FMTTYPE=image/jpeg:https://www.exploredowntowntigard.com/wp-content/uploads/2025/11/Poker-Image.jpg
END:VEVENT
BEGIN:VEVENT
DTSTART;TZID=UTC:20281001T123000
DTEND;TZID=UTC:20281001T170000
DTSTAMP:20260425T194657
CREATED:20251110T222222Z
LAST-MODIFIED:20251110T225412Z
UID:10000687-1854016200-1854032400@www.exploredowntowntigard.com
SUMMARY:Free Poker Sunset at Beach Hut
DESCRIPTION:Play FREE Texas Hold’em with Oregon’s largest poker league. Never a buy in\, just fun!\n\nYour new best friends can’t wait to meet you.\n\nPoker presented by MAD Poker\nVisit our website at www.madpoker.info
URL:https://www.exploredowntowntigard.com/event/free-poker-sunset-at-beach-hut/2028-10-01/
ATTACH;FMTTYPE=image/jpeg:https://www.exploredowntowntigard.com/wp-content/uploads/2025/11/Poker-Image.jpg
END:VEVENT
BEGIN:VEVENT
DTSTART;TZID=UTC:20281008T123000
DTEND;TZID=UTC:20281008T170000
DTSTAMP:20260425T194657
CREATED:20251110T222222Z
LAST-MODIFIED:20251110T225412Z
UID:10000688-1854621000-1854637200@www.exploredowntowntigard.com
SUMMARY:Free Poker Sunset at Beach Hut
DESCRIPTION:Play FREE Texas Hold’em with Oregon’s largest poker league. Never a buy in\, just fun!\n\nYour new best friends can’t wait to meet you.\n\nPoker presented by MAD Poker\nVisit our website at www.madpoker.info
URL:https://www.exploredowntowntigard.com/event/free-poker-sunset-at-beach-hut/2028-10-08/
ATTACH;FMTTYPE=image/jpeg:https://www.exploredowntowntigard.com/wp-content/uploads/2025/11/Poker-Image.jpg
END:VEVENT
BEGIN:VEVENT
DTSTART;TZID=UTC:20281015T123000
DTEND;TZID=UTC:20281015T170000
DTSTAMP:20260425T194657
CREATED:20251110T222222Z
LAST-MODIFIED:20251110T225412Z
UID:10000689-1855225800-1855242000@www.exploredowntowntigard.com
SUMMARY:Free Poker Sunset at Beach Hut
DESCRIPTION:Play FREE Texas Hold’em with Oregon’s largest poker league. Never a buy in\, just fun!\n\nYour new best friends can’t wait to meet you.\n\nPoker presented by MAD Poker\nVisit our website at www.madpoker.info
URL:https://www.exploredowntowntigard.com/event/free-poker-sunset-at-beach-hut/2028-10-15/
ATTACH;FMTTYPE=image/jpeg:https://www.exploredowntowntigard.com/wp-content/uploads/2025/11/Poker-Image.jpg
END:VEVENT
BEGIN:VEVENT
DTSTART;TZID=UTC:20281022T123000
DTEND;TZID=UTC:20281022T170000
DTSTAMP:20260425T194657
CREATED:20251110T222222Z
LAST-MODIFIED:20251110T225412Z
UID:10000690-1855830600-1855846800@www.exploredowntowntigard.com
SUMMARY:Free Poker Sunset at Beach Hut
DESCRIPTION:Play FREE Texas Hold’em with Oregon’s largest poker league. Never a buy in\, just fun!\n\nYour new best friends can’t wait to meet you.\n\nPoker presented by MAD Poker\nVisit our website at www.madpoker.info
URL:https://www.exploredowntowntigard.com/event/free-poker-sunset-at-beach-hut/2028-10-22/
ATTACH;FMTTYPE=image/jpeg:https://www.exploredowntowntigard.com/wp-content/uploads/2025/11/Poker-Image.jpg
END:VEVENT
BEGIN:VEVENT
DTSTART;TZID=UTC:20281029T123000
DTEND;TZID=UTC:20281029T170000
DTSTAMP:20260425T194657
CREATED:20251110T222222Z
LAST-MODIFIED:20251110T225412Z
UID:10000691-1856435400-1856451600@www.exploredowntowntigard.com
SUMMARY:Free Poker Sunset at Beach Hut
DESCRIPTION:Play FREE Texas Hold’em with Oregon’s largest poker league. Never a buy in\, just fun!\n\nYour new best friends can’t wait to meet you.\n\nPoker presented by MAD Poker\nVisit our website at www.madpoker.info
URL:https://www.exploredowntowntigard.com/event/free-poker-sunset-at-beach-hut/2028-10-29/
ATTACH;FMTTYPE=image/jpeg:https://www.exploredowntowntigard.com/wp-content/uploads/2025/11/Poker-Image.jpg
END:VEVENT
BEGIN:VEVENT
DTSTART;TZID=UTC:20281105T123000
DTEND;TZID=UTC:20281105T170000
DTSTAMP:20260425T194657
CREATED:20251110T222222Z
LAST-MODIFIED:20251110T225412Z
UID:10000692-1857040200-1857056400@www.exploredowntowntigard.com
SUMMARY:Free Poker Sunset at Beach Hut
DESCRIPTION:Play FREE Texas Hold’em with Oregon’s largest poker league. Never a buy in\, just fun!\n\nYour new best friends can’t wait to meet you.\n\nPoker presented by MAD Poker\nVisit our website at www.madpoker.info
URL:https://www.exploredowntowntigard.com/event/free-poker-sunset-at-beach-hut/2028-11-05/
ATTACH;FMTTYPE=image/jpeg:https://www.exploredowntowntigard.com/wp-content/uploads/2025/11/Poker-Image.jpg
END:VEVENT
BEGIN:VEVENT
DTSTART;TZID=UTC:20281112T123000
DTEND;TZID=UTC:20281112T170000
DTSTAMP:20260425T194657
CREATED:20251110T222222Z
LAST-MODIFIED:20251110T225412Z
UID:10000693-1857645000-1857661200@www.exploredowntowntigard.com
SUMMARY:Free Poker Sunset at Beach Hut
DESCRIPTION:Play FREE Texas Hold’em with Oregon’s largest poker league. Never a buy in\, just fun!\n\nYour new best friends can’t wait to meet you.\n\nPoker presented by MAD Poker\nVisit our website at www.madpoker.info
URL:https://www.exploredowntowntigard.com/event/free-poker-sunset-at-beach-hut/2028-11-12/
ATTACH;FMTTYPE=image/jpeg:https://www.exploredowntowntigard.com/wp-content/uploads/2025/11/Poker-Image.jpg
END:VEVENT
BEGIN:VEVENT
DTSTART;TZID=UTC:20281119T123000
DTEND;TZID=UTC:20281119T170000
DTSTAMP:20260425T194657
CREATED:20251110T222222Z
LAST-MODIFIED:20251110T225412Z
UID:10000694-1858249800-1858266000@www.exploredowntowntigard.com
SUMMARY:Free Poker Sunset at Beach Hut
DESCRIPTION:Play FREE Texas Hold’em with Oregon’s largest poker league. Never a buy in\, just fun!\n\nYour new best friends can’t wait to meet you.\n\nPoker presented by MAD Poker\nVisit our website at www.madpoker.info
URL:https://www.exploredowntowntigard.com/event/free-poker-sunset-at-beach-hut/2028-11-19/
ATTACH;FMTTYPE=image/jpeg:https://www.exploredowntowntigard.com/wp-content/uploads/2025/11/Poker-Image.jpg
END:VEVENT
BEGIN:VEVENT
DTSTART;TZID=UTC:20281126T123000
DTEND;TZID=UTC:20281126T170000
DTSTAMP:20260425T194657
CREATED:20251110T222222Z
LAST-MODIFIED:20251110T225412Z
UID:10000695-1858854600-1858870800@www.exploredowntowntigard.com
SUMMARY:Free Poker Sunset at Beach Hut
DESCRIPTION:Play FREE Texas Hold’em with Oregon’s largest poker league. Never a buy in\, just fun!\n\nYour new best friends can’t wait to meet you.\n\nPoker presented by MAD Poker\nVisit our website at www.madpoker.info
URL:https://www.exploredowntowntigard.com/event/free-poker-sunset-at-beach-hut/2028-11-26/
ATTACH;FMTTYPE=image/jpeg:https://www.exploredowntowntigard.com/wp-content/uploads/2025/11/Poker-Image.jpg
END:VEVENT
BEGIN:VEVENT
DTSTART;TZID=UTC:20281203T123000
DTEND;TZID=UTC:20281203T170000
DTSTAMP:20260425T194657
CREATED:20251110T222222Z
LAST-MODIFIED:20251110T225412Z
UID:10000696-1859459400-1859475600@www.exploredowntowntigard.com
SUMMARY:Free Poker Sunset at Beach Hut
DESCRIPTION:Play FREE Texas Hold’em with Oregon’s largest poker league. Never a buy in\, just fun!\n\nYour new best friends can’t wait to meet you.\n\nPoker presented by MAD Poker\nVisit our website at www.madpoker.info
URL:https://www.exploredowntowntigard.com/event/free-poker-sunset-at-beach-hut/2028-12-03/
ATTACH;FMTTYPE=image/jpeg:https://www.exploredowntowntigard.com/wp-content/uploads/2025/11/Poker-Image.jpg
END:VEVENT
BEGIN:VEVENT
DTSTART;TZID=UTC:20281210T123000
DTEND;TZID=UTC:20281210T170000
DTSTAMP:20260425T194657
CREATED:20251110T222222Z
LAST-MODIFIED:20251110T225412Z
UID:10000697-1860064200-1860080400@www.exploredowntowntigard.com
SUMMARY:Free Poker Sunset at Beach Hut
DESCRIPTION:Play FREE Texas Hold’em with Oregon’s largest poker league. Never a buy in\, just fun!\n\nYour new best friends can’t wait to meet you.\n\nPoker presented by MAD Poker\nVisit our website at www.madpoker.info
URL:https://www.exploredowntowntigard.com/event/free-poker-sunset-at-beach-hut/2028-12-10/
ATTACH;FMTTYPE=image/jpeg:https://www.exploredowntowntigard.com/wp-content/uploads/2025/11/Poker-Image.jpg
END:VEVENT
BEGIN:VEVENT
DTSTART;TZID=UTC:20281217T123000
DTEND;TZID=UTC:20281217T170000
DTSTAMP:20260425T194657
CREATED:20251110T222222Z
LAST-MODIFIED:20251110T225412Z
UID:10000698-1860669000-1860685200@www.exploredowntowntigard.com
SUMMARY:Free Poker Sunset at Beach Hut
DESCRIPTION:Play FREE Texas Hold’em with Oregon’s largest poker league. Never a buy in\, just fun!\n\nYour new best friends can’t wait to meet you.\n\nPoker presented by MAD Poker\nVisit our website at www.madpoker.info
URL:https://www.exploredowntowntigard.com/event/free-poker-sunset-at-beach-hut/2028-12-17/
ATTACH;FMTTYPE=image/jpeg:https://www.exploredowntowntigard.com/wp-content/uploads/2025/11/Poker-Image.jpg
END:VEVENT
BEGIN:VEVENT
DTSTART;TZID=UTC:20281224T123000
DTEND;TZID=UTC:20281224T170000
DTSTAMP:20260425T194657
CREATED:20251110T222222Z
LAST-MODIFIED:20251110T225412Z
UID:10000699-1861273800-1861290000@www.exploredowntowntigard.com
SUMMARY:Free Poker Sunset at Beach Hut
DESCRIPTION:Play FREE Texas Hold’em with Oregon’s largest poker league. Never a buy in\, just fun!\n\nYour new best friends can’t wait to meet you.\n\nPoker presented by MAD Poker\nVisit our website at www.madpoker.info
URL:https://www.exploredowntowntigard.com/event/free-poker-sunset-at-beach-hut/2028-12-24/
ATTACH;FMTTYPE=image/jpeg:https://www.exploredowntowntigard.com/wp-content/uploads/2025/11/Poker-Image.jpg
END:VEVENT
END:VCALENDAR