BEGIN:VCALENDAR
VERSION:2.0
PRODID:-//Tigard Downtown Alliance - ECPv6.15.18//NONSGML v1.0//EN
CALSCALE:GREGORIAN
METHOD:PUBLISH
X-ORIGINAL-URL:https://www.exploredowntowntigard.com
X-WR-CALDESC:Events for Tigard Downtown Alliance
REFRESH-INTERVAL;VALUE=DURATION:PT1H
X-Robots-Tag:noindex
X-PUBLISHED-TTL:PT1H
BEGIN:VTIMEZONE
TZID:UTC
BEGIN:STANDARD
TZOFFSETFROM:+0000
TZOFFSETTO:+0000
TZNAME:UTC
DTSTART:20240101T000000
END:STANDARD
END:VTIMEZONE
BEGIN:VEVENT
DTSTART;TZID=UTC:20250628T120000
DTEND;TZID=UTC:20250628T200000
DTSTAMP:20260423T164421
CREATED:20250624T202536Z
LAST-MODIFIED:20250624T202536Z
UID:10000182-1751112000-1751140800@www.exploredowntowntigard.com
SUMMARY:Cooper Mountain Ale Works 5th Anniversary Party
DESCRIPTION:Everyone’s invited! Enjoy fresh squeezed shandies\, food specials\, new beers\, lawn games\, and plenty of surprises. Also enjoy live music all day from: \nTrent Beaver: 1pm-3pm \nSplash of Fire: 3:30pm-5:30pm \nTy Curtis Band: 6pm-8pm
URL:https://www.exploredowntowntigard.com/event/cooper-mountain-ale-works-5th-anniversary-party/
LOCATION:Cooper Mountain Ale Works\, 12562 SW Main Street\, Tigard\, 97223
ATTACH;FMTTYPE=image/png:https://www.exploredowntowntigard.com/wp-content/uploads/2025/06/5th-Anniversary-Party-8.5-x-11-poster.png
END:VEVENT
BEGIN:VEVENT
DTSTART;TZID=UTC:20250629T090000
DTEND;TZID=UTC:20250629T133000
DTSTAMP:20260423T164421
CREATED:20250618T212836Z
LAST-MODIFIED:20250623T201438Z
UID:10000007-1751187600-1751203800@www.exploredowntowntigard.com
SUMMARY:Tigard Farmers Market
DESCRIPTION:We focus on bringing farmers\, community\, and non-profits together in a way that benefits all. Farmers grow local produce\, plants\, and flowers\, our community gathers together to support local businesses\, and weekly non-profit booth space provides all the opportunity to give back.
URL:https://www.exploredowntowntigard.com/event/tigard-farmers-market/2025-06-29/
LOCATION:Universal Plaza\, 9100 Sw Burnham St. Tigard\, OR\, Tigard\, OR\, 97223\, United States
ATTACH;FMTTYPE=image/png:https://www.exploredowntowntigard.com/wp-content/uploads/2025/06/images.png
END:VEVENT
BEGIN:VEVENT
DTSTART;TZID=UTC:20250706T090000
DTEND;TZID=UTC:20250706T133000
DTSTAMP:20260423T164421
CREATED:20250618T212836Z
LAST-MODIFIED:20250623T201438Z
UID:10000009-1751792400-1751808600@www.exploredowntowntigard.com
SUMMARY:Tigard Farmers Market
DESCRIPTION:We focus on bringing farmers\, community\, and non-profits together in a way that benefits all. Farmers grow local produce\, plants\, and flowers\, our community gathers together to support local businesses\, and weekly non-profit booth space provides all the opportunity to give back.
URL:https://www.exploredowntowntigard.com/event/tigard-farmers-market/2025-07-06/
LOCATION:Universal Plaza\, 9100 Sw Burnham St. Tigard\, OR\, Tigard\, OR\, 97223\, United States
ATTACH;FMTTYPE=image/png:https://www.exploredowntowntigard.com/wp-content/uploads/2025/06/images.png
END:VEVENT
BEGIN:VEVENT
DTSTART;TZID=UTC:20250713T090000
DTEND;TZID=UTC:20250713T133000
DTSTAMP:20260423T164421
CREATED:20250618T212836Z
LAST-MODIFIED:20250623T201438Z
UID:10000011-1752397200-1752413400@www.exploredowntowntigard.com
SUMMARY:Tigard Farmers Market
DESCRIPTION:We focus on bringing farmers\, community\, and non-profits together in a way that benefits all. Farmers grow local produce\, plants\, and flowers\, our community gathers together to support local businesses\, and weekly non-profit booth space provides all the opportunity to give back.
URL:https://www.exploredowntowntigard.com/event/tigard-farmers-market/2025-07-13/
LOCATION:Universal Plaza\, 9100 Sw Burnham St. Tigard\, OR\, Tigard\, OR\, 97223\, United States
ATTACH;FMTTYPE=image/png:https://www.exploredowntowntigard.com/wp-content/uploads/2025/06/images.png
END:VEVENT
BEGIN:VEVENT
DTSTART;TZID=UTC:20250716T100000
DTEND;TZID=UTC:20250716T120000
DTSTAMP:20260423T164421
CREATED:20250711T205407Z
LAST-MODIFIED:20250711T205418Z
UID:10000254-1752660000-1752667200@www.exploredowntowntigard.com
SUMMARY:Pop Up in the Park!
DESCRIPTION:Pop Up in the Park & Popsicles with the Police! \nCome join us in celebration of National Park and Recreation Month with Pop Up in the Park! Awaken your appetite for fun\, with action-packed fun like ready-to-play sports\, games\, and crafts\, and all\, coming to your favorite public park! \nEvery Pop Up is different\, check out the special guests who will be joining us at this one: \n\nTigard Police will be at the event to join in on popsicles and conversations.\nTigard Public Library: story time\, and free books for summer reading program.\nOregon Music Academy: Instrument Activities\nTilton’s Floor Gymnastics: Fun activities and prizes.\nNW Fencing: Fun activities\n\nFood Carts will be open\, so plan to grab a bite! \nIf able\, plan to walk\, bike or carpool to the park as limited parking is available.
URL:https://www.exploredowntowntigard.com/event/pop-up-in-the-park/
LOCATION:Universal Plaza\, 9100 Sw Burnham St. Tigard\, OR\, Tigard\, OR\, 97223\, United States
ATTACH;FMTTYPE=image/png:https://www.exploredowntowntigard.com/wp-content/uploads/2025/06/638204286100730000.png
END:VEVENT
BEGIN:VEVENT
DTSTART;TZID=UTC:20250720T090000
DTEND;TZID=UTC:20250720T133000
DTSTAMP:20260423T164421
CREATED:20250618T212836Z
LAST-MODIFIED:20250623T201438Z
UID:10000013-1753002000-1753018200@www.exploredowntowntigard.com
SUMMARY:Tigard Farmers Market
DESCRIPTION:We focus on bringing farmers\, community\, and non-profits together in a way that benefits all. Farmers grow local produce\, plants\, and flowers\, our community gathers together to support local businesses\, and weekly non-profit booth space provides all the opportunity to give back.
URL:https://www.exploredowntowntigard.com/event/tigard-farmers-market/2025-07-20/
LOCATION:Universal Plaza\, 9100 Sw Burnham St. Tigard\, OR\, Tigard\, OR\, 97223\, United States
ATTACH;FMTTYPE=image/png:https://www.exploredowntowntigard.com/wp-content/uploads/2025/06/images.png
END:VEVENT
BEGIN:VEVENT
DTSTART;TZID=UTC:20250727T090000
DTEND;TZID=UTC:20250727T133000
DTSTAMP:20260423T164421
CREATED:20250618T212836Z
LAST-MODIFIED:20250623T201438Z
UID:10000015-1753606800-1753623000@www.exploredowntowntigard.com
SUMMARY:Tigard Farmers Market
DESCRIPTION:We focus on bringing farmers\, community\, and non-profits together in a way that benefits all. Farmers grow local produce\, plants\, and flowers\, our community gathers together to support local businesses\, and weekly non-profit booth space provides all the opportunity to give back.
URL:https://www.exploredowntowntigard.com/event/tigard-farmers-market/2025-07-27/
LOCATION:Universal Plaza\, 9100 Sw Burnham St. Tigard\, OR\, Tigard\, OR\, 97223\, United States
ATTACH;FMTTYPE=image/png:https://www.exploredowntowntigard.com/wp-content/uploads/2025/06/images.png
END:VEVENT
BEGIN:VEVENT
DTSTART;TZID=UTC:20250803T090000
DTEND;TZID=UTC:20250803T133000
DTSTAMP:20260423T164421
CREATED:20250618T212836Z
LAST-MODIFIED:20250623T201438Z
UID:10000017-1754211600-1754227800@www.exploredowntowntigard.com
SUMMARY:Tigard Farmers Market
DESCRIPTION:We focus on bringing farmers\, community\, and non-profits together in a way that benefits all. Farmers grow local produce\, plants\, and flowers\, our community gathers together to support local businesses\, and weekly non-profit booth space provides all the opportunity to give back.
URL:https://www.exploredowntowntigard.com/event/tigard-farmers-market/2025-08-03/
LOCATION:Universal Plaza\, 9100 Sw Burnham St. Tigard\, OR\, Tigard\, OR\, 97223\, United States
ATTACH;FMTTYPE=image/png:https://www.exploredowntowntigard.com/wp-content/uploads/2025/06/images.png
END:VEVENT
BEGIN:VEVENT
DTSTART;TZID=UTC:20250810T090000
DTEND;TZID=UTC:20250810T133000
DTSTAMP:20260423T164421
CREATED:20250618T212836Z
LAST-MODIFIED:20250623T201438Z
UID:10000019-1754816400-1754832600@www.exploredowntowntigard.com
SUMMARY:Tigard Farmers Market
DESCRIPTION:We focus on bringing farmers\, community\, and non-profits together in a way that benefits all. Farmers grow local produce\, plants\, and flowers\, our community gathers together to support local businesses\, and weekly non-profit booth space provides all the opportunity to give back.
URL:https://www.exploredowntowntigard.com/event/tigard-farmers-market/2025-08-10/
LOCATION:Universal Plaza\, 9100 Sw Burnham St. Tigard\, OR\, Tigard\, OR\, 97223\, United States
ATTACH;FMTTYPE=image/png:https://www.exploredowntowntigard.com/wp-content/uploads/2025/06/images.png
END:VEVENT
BEGIN:VEVENT
DTSTART;TZID=UTC:20250817T090000
DTEND;TZID=UTC:20250817T133000
DTSTAMP:20260423T164421
CREATED:20250618T212836Z
LAST-MODIFIED:20250623T201438Z
UID:10000021-1755421200-1755437400@www.exploredowntowntigard.com
SUMMARY:Tigard Farmers Market
DESCRIPTION:We focus on bringing farmers\, community\, and non-profits together in a way that benefits all. Farmers grow local produce\, plants\, and flowers\, our community gathers together to support local businesses\, and weekly non-profit booth space provides all the opportunity to give back.
URL:https://www.exploredowntowntigard.com/event/tigard-farmers-market/2025-08-17/
LOCATION:Universal Plaza\, 9100 Sw Burnham St. Tigard\, OR\, Tigard\, OR\, 97223\, United States
ATTACH;FMTTYPE=image/png:https://www.exploredowntowntigard.com/wp-content/uploads/2025/06/images.png
END:VEVENT
BEGIN:VEVENT
DTSTART;TZID=UTC:20250824T090000
DTEND;TZID=UTC:20250824T133000
DTSTAMP:20260423T164421
CREATED:20250618T212836Z
LAST-MODIFIED:20250623T201438Z
UID:10000023-1756026000-1756042200@www.exploredowntowntigard.com
SUMMARY:Tigard Farmers Market
DESCRIPTION:We focus on bringing farmers\, community\, and non-profits together in a way that benefits all. Farmers grow local produce\, plants\, and flowers\, our community gathers together to support local businesses\, and weekly non-profit booth space provides all the opportunity to give back.
URL:https://www.exploredowntowntigard.com/event/tigard-farmers-market/2025-08-24/
LOCATION:Universal Plaza\, 9100 Sw Burnham St. Tigard\, OR\, Tigard\, OR\, 97223\, United States
ATTACH;FMTTYPE=image/png:https://www.exploredowntowntigard.com/wp-content/uploads/2025/06/images.png
END:VEVENT
BEGIN:VEVENT
DTSTART;TZID=UTC:20250824T100000
DTEND;TZID=UTC:20250824T170000
DTSTAMP:20260423T164421
CREATED:20250702T223607Z
LAST-MODIFIED:20250702T223607Z
UID:10000253-1756029600-1756054800@www.exploredowntowntigard.com
SUMMARY:TIGARD VINTAGE MARKET
DESCRIPTION:30 vintage vendors selling the best of vintage at Curiosities Vintage & Oddities
URL:https://www.exploredowntowntigard.com/event/tigard-vintage-market/
LOCATION:Downtown Tigard\, 12345 SW Main St\, Tigard\, OR\, 97223\, United States
ATTACH;FMTTYPE=image/png:https://www.exploredowntowntigard.com/wp-content/uploads/2025/07/Curiosities-Full-Color-Detail-Logo.png
END:VEVENT
BEGIN:VEVENT
DTSTART;TZID=UTC:20250831T090000
DTEND;TZID=UTC:20250831T133000
DTSTAMP:20260423T164421
CREATED:20250618T212836Z
LAST-MODIFIED:20250623T201438Z
UID:10000025-1756630800-1756647000@www.exploredowntowntigard.com
SUMMARY:Tigard Farmers Market
DESCRIPTION:We focus on bringing farmers\, community\, and non-profits together in a way that benefits all. Farmers grow local produce\, plants\, and flowers\, our community gathers together to support local businesses\, and weekly non-profit booth space provides all the opportunity to give back.
URL:https://www.exploredowntowntigard.com/event/tigard-farmers-market/2025-08-31/
LOCATION:Universal Plaza\, 9100 Sw Burnham St. Tigard\, OR\, Tigard\, OR\, 97223\, United States
ATTACH;FMTTYPE=image/png:https://www.exploredowntowntigard.com/wp-content/uploads/2025/06/images.png
END:VEVENT
BEGIN:VEVENT
DTSTART;TZID=UTC:20250907T090000
DTEND;TZID=UTC:20250907T133000
DTSTAMP:20260423T164421
CREATED:20250618T212836Z
LAST-MODIFIED:20250623T201438Z
UID:10000027-1757235600-1757251800@www.exploredowntowntigard.com
SUMMARY:Tigard Farmers Market
DESCRIPTION:We focus on bringing farmers\, community\, and non-profits together in a way that benefits all. Farmers grow local produce\, plants\, and flowers\, our community gathers together to support local businesses\, and weekly non-profit booth space provides all the opportunity to give back.
URL:https://www.exploredowntowntigard.com/event/tigard-farmers-market/2025-09-07/
LOCATION:Universal Plaza\, 9100 Sw Burnham St. Tigard\, OR\, Tigard\, OR\, 97223\, United States
ATTACH;FMTTYPE=image/png:https://www.exploredowntowntigard.com/wp-content/uploads/2025/06/images.png
END:VEVENT
BEGIN:VEVENT
DTSTART;TZID=UTC:20250914T090000
DTEND;TZID=UTC:20250914T133000
DTSTAMP:20260423T164421
CREATED:20250618T212836Z
LAST-MODIFIED:20250623T201438Z
UID:10000029-1757840400-1757856600@www.exploredowntowntigard.com
SUMMARY:Tigard Farmers Market
DESCRIPTION:We focus on bringing farmers\, community\, and non-profits together in a way that benefits all. Farmers grow local produce\, plants\, and flowers\, our community gathers together to support local businesses\, and weekly non-profit booth space provides all the opportunity to give back.
URL:https://www.exploredowntowntigard.com/event/tigard-farmers-market/2025-09-14/
LOCATION:Universal Plaza\, 9100 Sw Burnham St. Tigard\, OR\, Tigard\, OR\, 97223\, United States
ATTACH;FMTTYPE=image/png:https://www.exploredowntowntigard.com/wp-content/uploads/2025/06/images.png
END:VEVENT
BEGIN:VEVENT
DTSTART;TZID=UTC:20250921T090000
DTEND;TZID=UTC:20250921T133000
DTSTAMP:20260423T164421
CREATED:20250618T212836Z
LAST-MODIFIED:20250623T201438Z
UID:10000031-1758445200-1758461400@www.exploredowntowntigard.com
SUMMARY:Tigard Farmers Market
DESCRIPTION:We focus on bringing farmers\, community\, and non-profits together in a way that benefits all. Farmers grow local produce\, plants\, and flowers\, our community gathers together to support local businesses\, and weekly non-profit booth space provides all the opportunity to give back.
URL:https://www.exploredowntowntigard.com/event/tigard-farmers-market/2025-09-21/
LOCATION:Universal Plaza\, 9100 Sw Burnham St. Tigard\, OR\, Tigard\, OR\, 97223\, United States
ATTACH;FMTTYPE=image/png:https://www.exploredowntowntigard.com/wp-content/uploads/2025/06/images.png
END:VEVENT
BEGIN:VEVENT
DTSTART;TZID=UTC:20250921T110000
DTEND;TZID=UTC:20250921T160000
DTSTAMP:20260423T164421
CREATED:20250915T183840Z
LAST-MODIFIED:20250915T183840Z
UID:10000270-1758452400-1758470400@www.exploredowntowntigard.com
SUMMARY:VINTAGE REVIVAL MARKET
DESCRIPTION:The Vintage Revival Market is a monthly community marketplace dedicated exclusively to vintage\, antique\, and collectible treasures. \nHosted at the FLUX Event Center (next to Curiosites Vintage & Oddities\,) the market is designed to showcase quality dealers and unique finds\, creating a destination for collectors and enthusiasts alike.
URL:https://www.exploredowntowntigard.com/event/vintage-revival-market/
LOCATION:Downtown Tigard\, 12345 SW Main St\, Tigard\, OR\, 97223\, United States
ATTACH;FMTTYPE=image/png:https://www.exploredowntowntigard.com/wp-content/uploads/2025/09/Vintage-Revival-Market-bug.png
END:VEVENT
BEGIN:VEVENT
DTSTART;TZID=UTC:20250928T090000
DTEND;TZID=UTC:20250928T133000
DTSTAMP:20260423T164421
CREATED:20250618T212836Z
LAST-MODIFIED:20250623T201438Z
UID:10000033-1759050000-1759066200@www.exploredowntowntigard.com
SUMMARY:Tigard Farmers Market
DESCRIPTION:We focus on bringing farmers\, community\, and non-profits together in a way that benefits all. Farmers grow local produce\, plants\, and flowers\, our community gathers together to support local businesses\, and weekly non-profit booth space provides all the opportunity to give back.
URL:https://www.exploredowntowntigard.com/event/tigard-farmers-market/2025-09-28/
LOCATION:Universal Plaza\, 9100 Sw Burnham St. Tigard\, OR\, Tigard\, OR\, 97223\, United States
ATTACH;FMTTYPE=image/png:https://www.exploredowntowntigard.com/wp-content/uploads/2025/06/images.png
END:VEVENT
BEGIN:VEVENT
DTSTART;TZID=UTC:20251005T090000
DTEND;TZID=UTC:20251005T133000
DTSTAMP:20260423T164421
CREATED:20250618T212836Z
LAST-MODIFIED:20250623T201438Z
UID:10000035-1759654800-1759671000@www.exploredowntowntigard.com
SUMMARY:Tigard Farmers Market
DESCRIPTION:We focus on bringing farmers\, community\, and non-profits together in a way that benefits all. Farmers grow local produce\, plants\, and flowers\, our community gathers together to support local businesses\, and weekly non-profit booth space provides all the opportunity to give back.
URL:https://www.exploredowntowntigard.com/event/tigard-farmers-market/2025-10-05/
LOCATION:Universal Plaza\, 9100 Sw Burnham St. Tigard\, OR\, Tigard\, OR\, 97223\, United States
ATTACH;FMTTYPE=image/png:https://www.exploredowntowntigard.com/wp-content/uploads/2025/06/images.png
END:VEVENT
BEGIN:VEVENT
DTSTART;TZID=UTC:20251012T090000
DTEND;TZID=UTC:20251012T133000
DTSTAMP:20260423T164421
CREATED:20250618T212836Z
LAST-MODIFIED:20250623T201438Z
UID:10000037-1760259600-1760275800@www.exploredowntowntigard.com
SUMMARY:Tigard Farmers Market
DESCRIPTION:We focus on bringing farmers\, community\, and non-profits together in a way that benefits all. Farmers grow local produce\, plants\, and flowers\, our community gathers together to support local businesses\, and weekly non-profit booth space provides all the opportunity to give back.
URL:https://www.exploredowntowntigard.com/event/tigard-farmers-market/2025-10-12/
LOCATION:Universal Plaza\, 9100 Sw Burnham St. Tigard\, OR\, Tigard\, OR\, 97223\, United States
ATTACH;FMTTYPE=image/png:https://www.exploredowntowntigard.com/wp-content/uploads/2025/06/images.png
END:VEVENT
BEGIN:VEVENT
DTSTART;TZID=UTC:20251018T120000
DTEND;TZID=UTC:20251018T170000
DTSTAMP:20260423T164421
CREATED:20251010T173403Z
LAST-MODIFIED:20251010T173403Z
UID:10000272-1760788800-1760806800@www.exploredowntowntigard.com
SUMMARY:Teen Scene Bazaar
DESCRIPTION:A Y2K-inspired market featuring vintage fashion\, accessories\, and handmade goods. Shop curated pieces from local resellers and artists\, discover unique finds\, and enjoy a throwback to early 2000s style.
URL:https://www.exploredowntowntigard.com/event/teen-scene-bazaar/
LOCATION:FLUX Event Center\, 12550 SW Main St STE 120\, Tigard\, OR\, 97223\, United States
ATTACH;FMTTYPE=image/jpeg:https://www.exploredowntowntigard.com/wp-content/uploads/2025/10/Niamh-TSB-Web-Graphic-1.jpg
END:VEVENT
BEGIN:VEVENT
DTSTART;TZID=UTC:20251019T090000
DTEND;TZID=UTC:20251019T133000
DTSTAMP:20260423T164421
CREATED:20250618T212836Z
LAST-MODIFIED:20250623T201438Z
UID:10000039-1760864400-1760880600@www.exploredowntowntigard.com
SUMMARY:Tigard Farmers Market
DESCRIPTION:We focus on bringing farmers\, community\, and non-profits together in a way that benefits all. Farmers grow local produce\, plants\, and flowers\, our community gathers together to support local businesses\, and weekly non-profit booth space provides all the opportunity to give back.
URL:https://www.exploredowntowntigard.com/event/tigard-farmers-market/2025-10-19/
LOCATION:Universal Plaza\, 9100 Sw Burnham St. Tigard\, OR\, Tigard\, OR\, 97223\, United States
ATTACH;FMTTYPE=image/png:https://www.exploredowntowntigard.com/wp-content/uploads/2025/06/images.png
END:VEVENT
BEGIN:VEVENT
DTSTART;TZID=UTC:20251019T110000
DTEND;TZID=UTC:20251019T160000
DTSTAMP:20260423T164421
CREATED:20251010T173316Z
LAST-MODIFIED:20251010T173316Z
UID:10000273-1760871600-1760889600@www.exploredowntowntigard.com
SUMMARY:Vintage Revival Market: Vintage\, Antiques & Collectibles Halloween Edition
DESCRIPTION:Our very first Vintage Revival Market was a huge success\, and we’re just getting started! Beginning next year\, the market will expand into a two-day event. \nThe October edition brings a seasonal twist with spooky Halloween treasures\, oddities\, and unique finds from over 25 vendors. Join us for a one-of-a-kind shopping experience—and bring a friend to discover the magic of vintage.
URL:https://www.exploredowntowntigard.com/event/vintage-revival-market-vintage-antiques-collectibles-halloween-edition/
LOCATION:FLUX Event Center\, 12550 SW Main St STE 120\, Tigard\, OR\, 97223\, United States
ATTACH;FMTTYPE=image/png:https://www.exploredowntowntigard.com/wp-content/uploads/2025/10/Halloween-Oddities-5-x-5-in-6-x-4-in.png
END:VEVENT
BEGIN:VEVENT
DTSTART;TZID=UTC:20251026T090000
DTEND;TZID=UTC:20251026T133000
DTSTAMP:20260423T164421
CREATED:20250618T212836Z
LAST-MODIFIED:20250623T201438Z
UID:10000041-1761469200-1761485400@www.exploredowntowntigard.com
SUMMARY:Tigard Farmers Market
DESCRIPTION:We focus on bringing farmers\, community\, and non-profits together in a way that benefits all. Farmers grow local produce\, plants\, and flowers\, our community gathers together to support local businesses\, and weekly non-profit booth space provides all the opportunity to give back.
URL:https://www.exploredowntowntigard.com/event/tigard-farmers-market/2025-10-26/
LOCATION:Universal Plaza\, 9100 Sw Burnham St. Tigard\, OR\, Tigard\, OR\, 97223\, United States
ATTACH;FMTTYPE=image/png:https://www.exploredowntowntigard.com/wp-content/uploads/2025/06/images.png
END:VEVENT
BEGIN:VEVENT
DTSTART;TZID=UTC:20251031T153000
DTEND;TZID=UTC:20251031T180000
DTSTAMP:20260423T164421
CREATED:20250313T174938Z
LAST-MODIFIED:20251017T223525Z
UID:10000005-1761924600-1761933600@www.exploredowntowntigard.com
SUMMARY:Trick or Treat Main Street
DESCRIPTION:Local\, festive\, and full of surprises! A fun and safe experience for the whole family. \n\n\n\nBring the whole family to downtown Tigard for a spooktacular Halloween celebration! Trick or treat at participating businesses along Main Street and enjoy the safe and friendly atmosphere. \n\n\n\nThe first hour\, from 3:30–4:30 p.m.\, is dedicated to young children and neurodivergent children\, so they can enjoy trick-or-treating in a quieter and more relaxed setting. \n\n\n\nFrom 4:30–6 p.m.\, all kids and families are invited to trick or treat at participating businesses along Main Street. Be sure to wear your costume and come ready for some fun! \n\n\n\nVolunteers and police will be monitoring crosswalks and we’ll have limited traffic to help everyone stay safe. \n\n\n\nWe hope to see you there! \n2025 Trick or Treat Traffic Control
URL:https://www.exploredowntowntigard.com/event/trick-or-treat-main-street/
LOCATION:OR
ATTACH;FMTTYPE=image/webp:https://www.exploredowntowntigard.com/wp-content/uploads/2025/03/trick-or-treaters-main-street-scaled-1.webp
END:VEVENT
BEGIN:VEVENT
DTSTART;TZID=UTC:20251111T183000
DTEND;TZID=UTC:20251111T203000
DTSTAMP:20260423T164421
CREATED:20251110T223319Z
LAST-MODIFIED:20251118T215313Z
UID:10000276-1762885800-1762893000@www.exploredowntowntigard.com
SUMMARY:Music Bingo Sunset at Beach Hut
DESCRIPTION:Music Bingo Tuesdays at Sunset at Beach Hut Tuesdays | 6:30–8:30 PM(excluding the first Tuesday of each month)\nTurn up your Tuesday nights with Music Bingo at Sunset at Beach Hut — the perfect mix of your favorite songs\, great drinks\, and even better company! Instead of numbers\, you’ll mark off the hits you know and love as they play — think of it as bingo with a beat.\nSing along\, sip something good\, and see if you can snag a prize before the night’s over. Arrive early to snag $2 off of your drink of choice\, valid 5:30-6:30pm on event nights!\nWhether you’re a chart-topper expert or just here for the vibes\, you’ll fit right in.\nIt’s free to play\, so grab your friends\, head to the Sunset bar\, and get ready for a Tuesday tradition that hits all the right notes. 
URL:https://www.exploredowntowntigard.com/event/music-bingo-sunset-at-beach-hut/2025-11-11/
LOCATION:Sunset at Beach Hut\, 12436 SW Main St\, Tigard\, OR\, 97223\, United States
ATTACH;FMTTYPE=image/jpeg:https://www.exploredowntowntigard.com/wp-content/uploads/2025/11/Music-Bingo-Image.jpg
END:VEVENT
BEGIN:VEVENT
DTSTART;TZID=UTC:20251113T190000
DTEND;TZID=UTC:20251113T220000
DTSTAMP:20260423T164421
CREATED:20251110T223147Z
LAST-MODIFIED:20251110T223147Z
UID:10000277-1763060400-1763071200@www.exploredowntowntigard.com
SUMMARY:Jam Night Hosted by Dan Hess & Friends
DESCRIPTION:Jam night every Thursday night 7-10pm hosted by Dan Hess & Friends\, all artists welcome use sign-up sheet when you arrive\, back line available as well
URL:https://www.exploredowntowntigard.com/event/jam-night-hosted-by-dan-hess-friends/
LOCATION:Sunset at Beach Hut\, 12436 SW Main St\, Tigard\, OR\, 97223\, United States
ATTACH;FMTTYPE=image/jpeg:https://www.exploredowntowntigard.com/wp-content/uploads/2025/11/Jam-Night-Image.jpg
END:VEVENT
BEGIN:VEVENT
DTSTART;TZID=UTC:20251116T123000
DTEND;TZID=UTC:20251116T170000
DTSTAMP:20260423T164421
CREATED:20251110T222222Z
LAST-MODIFIED:20251110T225412Z
UID:10000278-1763296200-1763312400@www.exploredowntowntigard.com
SUMMARY:Free Poker Sunset at Beach Hut
DESCRIPTION:Play FREE Texas Hold’em with Oregon’s largest poker league. Never a buy in\, just fun!\n\nYour new best friends can’t wait to meet you.\n\nPoker presented by MAD Poker\nVisit our website at www.madpoker.info
URL:https://www.exploredowntowntigard.com/event/free-poker-sunset-at-beach-hut/2025-11-16/
LOCATION:OR
ATTACH;FMTTYPE=image/jpeg:https://www.exploredowntowntigard.com/wp-content/uploads/2025/11/Poker-Image.jpg
END:VEVENT
BEGIN:VEVENT
DTSTART;TZID=UTC:20251117T183000
DTEND;TZID=UTC:20251117T203000
DTSTAMP:20260423T164421
CREATED:20251110T143412Z
LAST-MODIFIED:20251110T225244Z
UID:10000275-1763404200-1763411400@www.exploredowntowntigard.com
SUMMARY:Trivia Sunset at Beach Hut
DESCRIPTION:Trivia Mondays at Sunset at Beach Hut 🌅🍹\nMondays | 6:30–8:30 PM \nMake Mondays something to look forward to! Join us at Sunset at Beach Hut for two hours of laughs\, drinks\, and friendly competition as you put your trivia skills to the test. From pop culture and music to movies and random fun facts\, every round is a new chance to show off what you know (or pretend you do 😉). \nCome early\, grab a drink\, and settle in for the perfect mix of brainpower and beach vibes. It’s totally free to play\, and there are prizes up for grabs each week — plus bragging rights that last until next Monday. \nArrive early to snag $2 off of your drink of choice\, valid 5:30-6:30pm on event nights! \nBring your friends\, bring your coworkers\, or just come hang with the regulars. Either way\, you’ll have a blast under the Sunset lights. \nTag your trivia crew and get ready for your new favorite Monday night tradition! 🌴🧠 \n 
URL:https://www.exploredowntowntigard.com/event/trivia-sunset-at-beach-hut/2025-11-17/
LOCATION:Sunset at Beach Hut\, 12436 SW Main St\, Tigard\, OR\, 97223\, United States
ATTACH;FMTTYPE=image/jpeg:https://www.exploredowntowntigard.com/wp-content/uploads/2025/11/IMG_3089.jpeg
END:VEVENT
BEGIN:VEVENT
DTSTART;TZID=UTC:20251118T183000
DTEND;TZID=UTC:20251118T203000
DTSTAMP:20260423T164421
CREATED:20251110T223319Z
LAST-MODIFIED:20251118T215313Z
UID:10000799-1763490600-1763497800@www.exploredowntowntigard.com
SUMMARY:Music Bingo Sunset at Beach Hut
DESCRIPTION:Music Bingo Tuesdays at Sunset at Beach Hut Tuesdays | 6:30–8:30 PM(excluding the first Tuesday of each month)\nTurn up your Tuesday nights with Music Bingo at Sunset at Beach Hut — the perfect mix of your favorite songs\, great drinks\, and even better company! Instead of numbers\, you’ll mark off the hits you know and love as they play — think of it as bingo with a beat.\nSing along\, sip something good\, and see if you can snag a prize before the night’s over. Arrive early to snag $2 off of your drink of choice\, valid 5:30-6:30pm on event nights!\nWhether you’re a chart-topper expert or just here for the vibes\, you’ll fit right in.\nIt’s free to play\, so grab your friends\, head to the Sunset bar\, and get ready for a Tuesday tradition that hits all the right notes. 
URL:https://www.exploredowntowntigard.com/event/music-bingo-sunset-at-beach-hut/2025-11-18/
LOCATION:Sunset at Beach Hut\, 12436 SW Main St\, Tigard\, OR\, 97223\, United States
ATTACH;FMTTYPE=image/jpeg:https://www.exploredowntowntigard.com/wp-content/uploads/2025/11/Music-Bingo-Image.jpg
END:VEVENT
END:VCALENDAR