BEGIN:VCALENDAR
VERSION:2.0
PRODID:-//Tigard Downtown Alliance - ECPv6.15.18//NONSGML v1.0//EN
CALSCALE:GREGORIAN
METHOD:PUBLISH
X-ORIGINAL-URL:https://www.exploredowntowntigard.com
X-WR-CALDESC:Events for Tigard Downtown Alliance
REFRESH-INTERVAL;VALUE=DURATION:PT1H
X-Robots-Tag:noindex
X-PUBLISHED-TTL:PT1H
BEGIN:VTIMEZONE
TZID:UTC
BEGIN:STANDARD
TZOFFSETFROM:+0000
TZOFFSETTO:+0000
TZNAME:UTC
DTSTART:20250101T000000
END:STANDARD
END:VTIMEZONE
BEGIN:VEVENT
DTSTART;TZID=UTC:20260426T123000
DTEND;TZID=UTC:20260426T170000
DTSTAMP:20260423T160858
CREATED:20251110T222222Z
LAST-MODIFIED:20251110T225412Z
UID:10000560-1777206600-1777222800@www.exploredowntowntigard.com
SUMMARY:Free Poker Sunset at Beach Hut
DESCRIPTION:Play FREE Texas Hold’em with Oregon’s largest poker league. Never a buy in\, just fun!\n\nYour new best friends can’t wait to meet you.\n\nPoker presented by MAD Poker\nVisit our website at www.madpoker.info
URL:https://www.exploredowntowntigard.com/event/free-poker-sunset-at-beach-hut/2026-04-26/
ATTACH;FMTTYPE=image/jpeg:https://www.exploredowntowntigard.com/wp-content/uploads/2025/11/Poker-Image.jpg
END:VEVENT
BEGIN:VEVENT
DTSTART;TZID=UTC:20260503T123000
DTEND;TZID=UTC:20260503T170000
DTSTAMP:20260423T160858
CREATED:20251110T222222Z
LAST-MODIFIED:20251110T225412Z
UID:10000561-1777811400-1777827600@www.exploredowntowntigard.com
SUMMARY:Free Poker Sunset at Beach Hut
DESCRIPTION:Play FREE Texas Hold’em with Oregon’s largest poker league. Never a buy in\, just fun!\n\nYour new best friends can’t wait to meet you.\n\nPoker presented by MAD Poker\nVisit our website at www.madpoker.info
URL:https://www.exploredowntowntigard.com/event/free-poker-sunset-at-beach-hut/2026-05-03/
ATTACH;FMTTYPE=image/jpeg:https://www.exploredowntowntigard.com/wp-content/uploads/2025/11/Poker-Image.jpg
END:VEVENT
BEGIN:VEVENT
DTSTART;TZID=UTC:20260510T123000
DTEND;TZID=UTC:20260510T170000
DTSTAMP:20260423T160858
CREATED:20251110T222222Z
LAST-MODIFIED:20251110T225412Z
UID:10000562-1778416200-1778432400@www.exploredowntowntigard.com
SUMMARY:Free Poker Sunset at Beach Hut
DESCRIPTION:Play FREE Texas Hold’em with Oregon’s largest poker league. Never a buy in\, just fun!\n\nYour new best friends can’t wait to meet you.\n\nPoker presented by MAD Poker\nVisit our website at www.madpoker.info
URL:https://www.exploredowntowntigard.com/event/free-poker-sunset-at-beach-hut/2026-05-10/
ATTACH;FMTTYPE=image/jpeg:https://www.exploredowntowntigard.com/wp-content/uploads/2025/11/Poker-Image.jpg
END:VEVENT
BEGIN:VEVENT
DTSTART;TZID=UTC:20260517T123000
DTEND;TZID=UTC:20260517T170000
DTSTAMP:20260423T160858
CREATED:20251110T222222Z
LAST-MODIFIED:20251110T225412Z
UID:10000563-1779021000-1779037200@www.exploredowntowntigard.com
SUMMARY:Free Poker Sunset at Beach Hut
DESCRIPTION:Play FREE Texas Hold’em with Oregon’s largest poker league. Never a buy in\, just fun!\n\nYour new best friends can’t wait to meet you.\n\nPoker presented by MAD Poker\nVisit our website at www.madpoker.info
URL:https://www.exploredowntowntigard.com/event/free-poker-sunset-at-beach-hut/2026-05-17/
ATTACH;FMTTYPE=image/jpeg:https://www.exploredowntowntigard.com/wp-content/uploads/2025/11/Poker-Image.jpg
END:VEVENT
BEGIN:VEVENT
DTSTART;TZID=UTC:20260524T123000
DTEND;TZID=UTC:20260524T170000
DTSTAMP:20260423T160858
CREATED:20251110T222222Z
LAST-MODIFIED:20251110T225412Z
UID:10000564-1779625800-1779642000@www.exploredowntowntigard.com
SUMMARY:Free Poker Sunset at Beach Hut
DESCRIPTION:Play FREE Texas Hold’em with Oregon’s largest poker league. Never a buy in\, just fun!\n\nYour new best friends can’t wait to meet you.\n\nPoker presented by MAD Poker\nVisit our website at www.madpoker.info
URL:https://www.exploredowntowntigard.com/event/free-poker-sunset-at-beach-hut/2026-05-24/
ATTACH;FMTTYPE=image/jpeg:https://www.exploredowntowntigard.com/wp-content/uploads/2025/11/Poker-Image.jpg
END:VEVENT
BEGIN:VEVENT
DTSTART;TZID=UTC:20260531T123000
DTEND;TZID=UTC:20260531T170000
DTSTAMP:20260423T160858
CREATED:20251110T222222Z
LAST-MODIFIED:20251110T225412Z
UID:10000565-1780230600-1780246800@www.exploredowntowntigard.com
SUMMARY:Free Poker Sunset at Beach Hut
DESCRIPTION:Play FREE Texas Hold’em with Oregon’s largest poker league. Never a buy in\, just fun!\n\nYour new best friends can’t wait to meet you.\n\nPoker presented by MAD Poker\nVisit our website at www.madpoker.info
URL:https://www.exploredowntowntigard.com/event/free-poker-sunset-at-beach-hut/2026-05-31/
ATTACH;FMTTYPE=image/jpeg:https://www.exploredowntowntigard.com/wp-content/uploads/2025/11/Poker-Image.jpg
END:VEVENT
BEGIN:VEVENT
DTSTART;TZID=UTC:20260607T123000
DTEND;TZID=UTC:20260607T170000
DTSTAMP:20260423T160858
CREATED:20251110T222222Z
LAST-MODIFIED:20251110T225412Z
UID:10000566-1780835400-1780851600@www.exploredowntowntigard.com
SUMMARY:Free Poker Sunset at Beach Hut
DESCRIPTION:Play FREE Texas Hold’em with Oregon’s largest poker league. Never a buy in\, just fun!\n\nYour new best friends can’t wait to meet you.\n\nPoker presented by MAD Poker\nVisit our website at www.madpoker.info
URL:https://www.exploredowntowntigard.com/event/free-poker-sunset-at-beach-hut/2026-06-07/
ATTACH;FMTTYPE=image/jpeg:https://www.exploredowntowntigard.com/wp-content/uploads/2025/11/Poker-Image.jpg
END:VEVENT
BEGIN:VEVENT
DTSTART;TZID=UTC:20260614T123000
DTEND;TZID=UTC:20260614T170000
DTSTAMP:20260423T160858
CREATED:20251110T222222Z
LAST-MODIFIED:20251110T225412Z
UID:10000567-1781440200-1781456400@www.exploredowntowntigard.com
SUMMARY:Free Poker Sunset at Beach Hut
DESCRIPTION:Play FREE Texas Hold’em with Oregon’s largest poker league. Never a buy in\, just fun!\n\nYour new best friends can’t wait to meet you.\n\nPoker presented by MAD Poker\nVisit our website at www.madpoker.info
URL:https://www.exploredowntowntigard.com/event/free-poker-sunset-at-beach-hut/2026-06-14/
ATTACH;FMTTYPE=image/jpeg:https://www.exploredowntowntigard.com/wp-content/uploads/2025/11/Poker-Image.jpg
END:VEVENT
BEGIN:VEVENT
DTSTART;TZID=UTC:20260621T123000
DTEND;TZID=UTC:20260621T170000
DTSTAMP:20260423T160858
CREATED:20251110T222222Z
LAST-MODIFIED:20251110T225412Z
UID:10000568-1782045000-1782061200@www.exploredowntowntigard.com
SUMMARY:Free Poker Sunset at Beach Hut
DESCRIPTION:Play FREE Texas Hold’em with Oregon’s largest poker league. Never a buy in\, just fun!\n\nYour new best friends can’t wait to meet you.\n\nPoker presented by MAD Poker\nVisit our website at www.madpoker.info
URL:https://www.exploredowntowntigard.com/event/free-poker-sunset-at-beach-hut/2026-06-21/
ATTACH;FMTTYPE=image/jpeg:https://www.exploredowntowntigard.com/wp-content/uploads/2025/11/Poker-Image.jpg
END:VEVENT
BEGIN:VEVENT
DTSTART;TZID=UTC:20260628T123000
DTEND;TZID=UTC:20260628T170000
DTSTAMP:20260423T160858
CREATED:20251110T222222Z
LAST-MODIFIED:20251110T225412Z
UID:10000569-1782649800-1782666000@www.exploredowntowntigard.com
SUMMARY:Free Poker Sunset at Beach Hut
DESCRIPTION:Play FREE Texas Hold’em with Oregon’s largest poker league. Never a buy in\, just fun!\n\nYour new best friends can’t wait to meet you.\n\nPoker presented by MAD Poker\nVisit our website at www.madpoker.info
URL:https://www.exploredowntowntigard.com/event/free-poker-sunset-at-beach-hut/2026-06-28/
ATTACH;FMTTYPE=image/jpeg:https://www.exploredowntowntigard.com/wp-content/uploads/2025/11/Poker-Image.jpg
END:VEVENT
BEGIN:VEVENT
DTSTART;TZID=UTC:20260705T123000
DTEND;TZID=UTC:20260705T170000
DTSTAMP:20260423T160858
CREATED:20251110T222222Z
LAST-MODIFIED:20251110T225412Z
UID:10000570-1783254600-1783270800@www.exploredowntowntigard.com
SUMMARY:Free Poker Sunset at Beach Hut
DESCRIPTION:Play FREE Texas Hold’em with Oregon’s largest poker league. Never a buy in\, just fun!\n\nYour new best friends can’t wait to meet you.\n\nPoker presented by MAD Poker\nVisit our website at www.madpoker.info
URL:https://www.exploredowntowntigard.com/event/free-poker-sunset-at-beach-hut/2026-07-05/
ATTACH;FMTTYPE=image/jpeg:https://www.exploredowntowntigard.com/wp-content/uploads/2025/11/Poker-Image.jpg
END:VEVENT
BEGIN:VEVENT
DTSTART;TZID=UTC:20260712T123000
DTEND;TZID=UTC:20260712T170000
DTSTAMP:20260423T160858
CREATED:20251110T222222Z
LAST-MODIFIED:20251110T225412Z
UID:10000571-1783859400-1783875600@www.exploredowntowntigard.com
SUMMARY:Free Poker Sunset at Beach Hut
DESCRIPTION:Play FREE Texas Hold’em with Oregon’s largest poker league. Never a buy in\, just fun!\n\nYour new best friends can’t wait to meet you.\n\nPoker presented by MAD Poker\nVisit our website at www.madpoker.info
URL:https://www.exploredowntowntigard.com/event/free-poker-sunset-at-beach-hut/2026-07-12/
ATTACH;FMTTYPE=image/jpeg:https://www.exploredowntowntigard.com/wp-content/uploads/2025/11/Poker-Image.jpg
END:VEVENT
BEGIN:VEVENT
DTSTART;TZID=UTC:20260719T123000
DTEND;TZID=UTC:20260719T170000
DTSTAMP:20260423T160858
CREATED:20251110T222222Z
LAST-MODIFIED:20251110T225412Z
UID:10000572-1784464200-1784480400@www.exploredowntowntigard.com
SUMMARY:Free Poker Sunset at Beach Hut
DESCRIPTION:Play FREE Texas Hold’em with Oregon’s largest poker league. Never a buy in\, just fun!\n\nYour new best friends can’t wait to meet you.\n\nPoker presented by MAD Poker\nVisit our website at www.madpoker.info
URL:https://www.exploredowntowntigard.com/event/free-poker-sunset-at-beach-hut/2026-07-19/
ATTACH;FMTTYPE=image/jpeg:https://www.exploredowntowntigard.com/wp-content/uploads/2025/11/Poker-Image.jpg
END:VEVENT
BEGIN:VEVENT
DTSTART;TZID=UTC:20260726T123000
DTEND;TZID=UTC:20260726T170000
DTSTAMP:20260423T160858
CREATED:20251110T222222Z
LAST-MODIFIED:20251110T225412Z
UID:10000573-1785069000-1785085200@www.exploredowntowntigard.com
SUMMARY:Free Poker Sunset at Beach Hut
DESCRIPTION:Play FREE Texas Hold’em with Oregon’s largest poker league. Never a buy in\, just fun!\n\nYour new best friends can’t wait to meet you.\n\nPoker presented by MAD Poker\nVisit our website at www.madpoker.info
URL:https://www.exploredowntowntigard.com/event/free-poker-sunset-at-beach-hut/2026-07-26/
ATTACH;FMTTYPE=image/jpeg:https://www.exploredowntowntigard.com/wp-content/uploads/2025/11/Poker-Image.jpg
END:VEVENT
BEGIN:VEVENT
DTSTART;TZID=UTC:20260802T123000
DTEND;TZID=UTC:20260802T170000
DTSTAMP:20260423T160858
CREATED:20251110T222222Z
LAST-MODIFIED:20251110T225412Z
UID:10000574-1785673800-1785690000@www.exploredowntowntigard.com
SUMMARY:Free Poker Sunset at Beach Hut
DESCRIPTION:Play FREE Texas Hold’em with Oregon’s largest poker league. Never a buy in\, just fun!\n\nYour new best friends can’t wait to meet you.\n\nPoker presented by MAD Poker\nVisit our website at www.madpoker.info
URL:https://www.exploredowntowntigard.com/event/free-poker-sunset-at-beach-hut/2026-08-02/
ATTACH;FMTTYPE=image/jpeg:https://www.exploredowntowntigard.com/wp-content/uploads/2025/11/Poker-Image.jpg
END:VEVENT
BEGIN:VEVENT
DTSTART;TZID=UTC:20260809T123000
DTEND;TZID=UTC:20260809T170000
DTSTAMP:20260423T160858
CREATED:20251110T222222Z
LAST-MODIFIED:20251110T225412Z
UID:10000575-1786278600-1786294800@www.exploredowntowntigard.com
SUMMARY:Free Poker Sunset at Beach Hut
DESCRIPTION:Play FREE Texas Hold’em with Oregon’s largest poker league. Never a buy in\, just fun!\n\nYour new best friends can’t wait to meet you.\n\nPoker presented by MAD Poker\nVisit our website at www.madpoker.info
URL:https://www.exploredowntowntigard.com/event/free-poker-sunset-at-beach-hut/2026-08-09/
ATTACH;FMTTYPE=image/jpeg:https://www.exploredowntowntigard.com/wp-content/uploads/2025/11/Poker-Image.jpg
END:VEVENT
BEGIN:VEVENT
DTSTART;TZID=UTC:20260816T123000
DTEND;TZID=UTC:20260816T170000
DTSTAMP:20260423T160858
CREATED:20251110T222222Z
LAST-MODIFIED:20251110T225412Z
UID:10000576-1786883400-1786899600@www.exploredowntowntigard.com
SUMMARY:Free Poker Sunset at Beach Hut
DESCRIPTION:Play FREE Texas Hold’em with Oregon’s largest poker league. Never a buy in\, just fun!\n\nYour new best friends can’t wait to meet you.\n\nPoker presented by MAD Poker\nVisit our website at www.madpoker.info
URL:https://www.exploredowntowntigard.com/event/free-poker-sunset-at-beach-hut/2026-08-16/
ATTACH;FMTTYPE=image/jpeg:https://www.exploredowntowntigard.com/wp-content/uploads/2025/11/Poker-Image.jpg
END:VEVENT
BEGIN:VEVENT
DTSTART;TZID=UTC:20260823T123000
DTEND;TZID=UTC:20260823T170000
DTSTAMP:20260423T160858
CREATED:20251110T222222Z
LAST-MODIFIED:20251110T225412Z
UID:10000577-1787488200-1787504400@www.exploredowntowntigard.com
SUMMARY:Free Poker Sunset at Beach Hut
DESCRIPTION:Play FREE Texas Hold’em with Oregon’s largest poker league. Never a buy in\, just fun!\n\nYour new best friends can’t wait to meet you.\n\nPoker presented by MAD Poker\nVisit our website at www.madpoker.info
URL:https://www.exploredowntowntigard.com/event/free-poker-sunset-at-beach-hut/2026-08-23/
ATTACH;FMTTYPE=image/jpeg:https://www.exploredowntowntigard.com/wp-content/uploads/2025/11/Poker-Image.jpg
END:VEVENT
BEGIN:VEVENT
DTSTART;TZID=UTC:20260830T123000
DTEND;TZID=UTC:20260830T170000
DTSTAMP:20260423T160858
CREATED:20251110T222222Z
LAST-MODIFIED:20251110T225412Z
UID:10000578-1788093000-1788109200@www.exploredowntowntigard.com
SUMMARY:Free Poker Sunset at Beach Hut
DESCRIPTION:Play FREE Texas Hold’em with Oregon’s largest poker league. Never a buy in\, just fun!\n\nYour new best friends can’t wait to meet you.\n\nPoker presented by MAD Poker\nVisit our website at www.madpoker.info
URL:https://www.exploredowntowntigard.com/event/free-poker-sunset-at-beach-hut/2026-08-30/
ATTACH;FMTTYPE=image/jpeg:https://www.exploredowntowntigard.com/wp-content/uploads/2025/11/Poker-Image.jpg
END:VEVENT
BEGIN:VEVENT
DTSTART;TZID=UTC:20260906T123000
DTEND;TZID=UTC:20260906T170000
DTSTAMP:20260423T160858
CREATED:20251110T222222Z
LAST-MODIFIED:20251110T225412Z
UID:10000579-1788697800-1788714000@www.exploredowntowntigard.com
SUMMARY:Free Poker Sunset at Beach Hut
DESCRIPTION:Play FREE Texas Hold’em with Oregon’s largest poker league. Never a buy in\, just fun!\n\nYour new best friends can’t wait to meet you.\n\nPoker presented by MAD Poker\nVisit our website at www.madpoker.info
URL:https://www.exploredowntowntigard.com/event/free-poker-sunset-at-beach-hut/2026-09-06/
ATTACH;FMTTYPE=image/jpeg:https://www.exploredowntowntigard.com/wp-content/uploads/2025/11/Poker-Image.jpg
END:VEVENT
BEGIN:VEVENT
DTSTART;TZID=UTC:20260913T123000
DTEND;TZID=UTC:20260913T170000
DTSTAMP:20260423T160858
CREATED:20251110T222222Z
LAST-MODIFIED:20251110T225412Z
UID:10000580-1789302600-1789318800@www.exploredowntowntigard.com
SUMMARY:Free Poker Sunset at Beach Hut
DESCRIPTION:Play FREE Texas Hold’em with Oregon’s largest poker league. Never a buy in\, just fun!\n\nYour new best friends can’t wait to meet you.\n\nPoker presented by MAD Poker\nVisit our website at www.madpoker.info
URL:https://www.exploredowntowntigard.com/event/free-poker-sunset-at-beach-hut/2026-09-13/
ATTACH;FMTTYPE=image/jpeg:https://www.exploredowntowntigard.com/wp-content/uploads/2025/11/Poker-Image.jpg
END:VEVENT
BEGIN:VEVENT
DTSTART;TZID=UTC:20260920T123000
DTEND;TZID=UTC:20260920T170000
DTSTAMP:20260423T160858
CREATED:20251110T222222Z
LAST-MODIFIED:20251110T225412Z
UID:10000581-1789907400-1789923600@www.exploredowntowntigard.com
SUMMARY:Free Poker Sunset at Beach Hut
DESCRIPTION:Play FREE Texas Hold’em with Oregon’s largest poker league. Never a buy in\, just fun!\n\nYour new best friends can’t wait to meet you.\n\nPoker presented by MAD Poker\nVisit our website at www.madpoker.info
URL:https://www.exploredowntowntigard.com/event/free-poker-sunset-at-beach-hut/2026-09-20/
ATTACH;FMTTYPE=image/jpeg:https://www.exploredowntowntigard.com/wp-content/uploads/2025/11/Poker-Image.jpg
END:VEVENT
BEGIN:VEVENT
DTSTART;TZID=UTC:20260927T123000
DTEND;TZID=UTC:20260927T170000
DTSTAMP:20260423T160858
CREATED:20251110T222222Z
LAST-MODIFIED:20251110T225412Z
UID:10000582-1790512200-1790528400@www.exploredowntowntigard.com
SUMMARY:Free Poker Sunset at Beach Hut
DESCRIPTION:Play FREE Texas Hold’em with Oregon’s largest poker league. Never a buy in\, just fun!\n\nYour new best friends can’t wait to meet you.\n\nPoker presented by MAD Poker\nVisit our website at www.madpoker.info
URL:https://www.exploredowntowntigard.com/event/free-poker-sunset-at-beach-hut/2026-09-27/
ATTACH;FMTTYPE=image/jpeg:https://www.exploredowntowntigard.com/wp-content/uploads/2025/11/Poker-Image.jpg
END:VEVENT
BEGIN:VEVENT
DTSTART;TZID=UTC:20261004T123000
DTEND;TZID=UTC:20261004T170000
DTSTAMP:20260423T160858
CREATED:20251110T222222Z
LAST-MODIFIED:20251110T225412Z
UID:10000583-1791117000-1791133200@www.exploredowntowntigard.com
SUMMARY:Free Poker Sunset at Beach Hut
DESCRIPTION:Play FREE Texas Hold’em with Oregon’s largest poker league. Never a buy in\, just fun!\n\nYour new best friends can’t wait to meet you.\n\nPoker presented by MAD Poker\nVisit our website at www.madpoker.info
URL:https://www.exploredowntowntigard.com/event/free-poker-sunset-at-beach-hut/2026-10-04/
ATTACH;FMTTYPE=image/jpeg:https://www.exploredowntowntigard.com/wp-content/uploads/2025/11/Poker-Image.jpg
END:VEVENT
BEGIN:VEVENT
DTSTART;TZID=UTC:20261011T123000
DTEND;TZID=UTC:20261011T170000
DTSTAMP:20260423T160858
CREATED:20251110T222222Z
LAST-MODIFIED:20251110T225412Z
UID:10000584-1791721800-1791738000@www.exploredowntowntigard.com
SUMMARY:Free Poker Sunset at Beach Hut
DESCRIPTION:Play FREE Texas Hold’em with Oregon’s largest poker league. Never a buy in\, just fun!\n\nYour new best friends can’t wait to meet you.\n\nPoker presented by MAD Poker\nVisit our website at www.madpoker.info
URL:https://www.exploredowntowntigard.com/event/free-poker-sunset-at-beach-hut/2026-10-11/
ATTACH;FMTTYPE=image/jpeg:https://www.exploredowntowntigard.com/wp-content/uploads/2025/11/Poker-Image.jpg
END:VEVENT
BEGIN:VEVENT
DTSTART;TZID=UTC:20261018T123000
DTEND;TZID=UTC:20261018T170000
DTSTAMP:20260423T160858
CREATED:20251110T222222Z
LAST-MODIFIED:20251110T225412Z
UID:10000585-1792326600-1792342800@www.exploredowntowntigard.com
SUMMARY:Free Poker Sunset at Beach Hut
DESCRIPTION:Play FREE Texas Hold’em with Oregon’s largest poker league. Never a buy in\, just fun!\n\nYour new best friends can’t wait to meet you.\n\nPoker presented by MAD Poker\nVisit our website at www.madpoker.info
URL:https://www.exploredowntowntigard.com/event/free-poker-sunset-at-beach-hut/2026-10-18/
ATTACH;FMTTYPE=image/jpeg:https://www.exploredowntowntigard.com/wp-content/uploads/2025/11/Poker-Image.jpg
END:VEVENT
BEGIN:VEVENT
DTSTART;TZID=UTC:20261025T123000
DTEND;TZID=UTC:20261025T170000
DTSTAMP:20260423T160858
CREATED:20251110T222222Z
LAST-MODIFIED:20251110T225412Z
UID:10000586-1792931400-1792947600@www.exploredowntowntigard.com
SUMMARY:Free Poker Sunset at Beach Hut
DESCRIPTION:Play FREE Texas Hold’em with Oregon’s largest poker league. Never a buy in\, just fun!\n\nYour new best friends can’t wait to meet you.\n\nPoker presented by MAD Poker\nVisit our website at www.madpoker.info
URL:https://www.exploredowntowntigard.com/event/free-poker-sunset-at-beach-hut/2026-10-25/
ATTACH;FMTTYPE=image/jpeg:https://www.exploredowntowntigard.com/wp-content/uploads/2025/11/Poker-Image.jpg
END:VEVENT
BEGIN:VEVENT
DTSTART;TZID=UTC:20261101T123000
DTEND;TZID=UTC:20261101T170000
DTSTAMP:20260423T160858
CREATED:20251110T222222Z
LAST-MODIFIED:20251110T225412Z
UID:10000587-1793536200-1793552400@www.exploredowntowntigard.com
SUMMARY:Free Poker Sunset at Beach Hut
DESCRIPTION:Play FREE Texas Hold’em with Oregon’s largest poker league. Never a buy in\, just fun!\n\nYour new best friends can’t wait to meet you.\n\nPoker presented by MAD Poker\nVisit our website at www.madpoker.info
URL:https://www.exploredowntowntigard.com/event/free-poker-sunset-at-beach-hut/2026-11-01/
ATTACH;FMTTYPE=image/jpeg:https://www.exploredowntowntigard.com/wp-content/uploads/2025/11/Poker-Image.jpg
END:VEVENT
BEGIN:VEVENT
DTSTART;TZID=UTC:20261108T123000
DTEND;TZID=UTC:20261108T170000
DTSTAMP:20260423T160858
CREATED:20251110T222222Z
LAST-MODIFIED:20251110T225412Z
UID:10000588-1794141000-1794157200@www.exploredowntowntigard.com
SUMMARY:Free Poker Sunset at Beach Hut
DESCRIPTION:Play FREE Texas Hold’em with Oregon’s largest poker league. Never a buy in\, just fun!\n\nYour new best friends can’t wait to meet you.\n\nPoker presented by MAD Poker\nVisit our website at www.madpoker.info
URL:https://www.exploredowntowntigard.com/event/free-poker-sunset-at-beach-hut/2026-11-08/
ATTACH;FMTTYPE=image/jpeg:https://www.exploredowntowntigard.com/wp-content/uploads/2025/11/Poker-Image.jpg
END:VEVENT
BEGIN:VEVENT
DTSTART;TZID=UTC:20261115T123000
DTEND;TZID=UTC:20261115T170000
DTSTAMP:20260423T160858
CREATED:20251110T222222Z
LAST-MODIFIED:20251110T225412Z
UID:10000589-1794745800-1794762000@www.exploredowntowntigard.com
SUMMARY:Free Poker Sunset at Beach Hut
DESCRIPTION:Play FREE Texas Hold’em with Oregon’s largest poker league. Never a buy in\, just fun!\n\nYour new best friends can’t wait to meet you.\n\nPoker presented by MAD Poker\nVisit our website at www.madpoker.info
URL:https://www.exploredowntowntigard.com/event/free-poker-sunset-at-beach-hut/2026-11-15/
ATTACH;FMTTYPE=image/jpeg:https://www.exploredowntowntigard.com/wp-content/uploads/2025/11/Poker-Image.jpg
END:VEVENT
END:VCALENDAR